BEGIN:VCALENDAR
VERSION:2.0
PRODID:-//Warringah Archers - ECPv6.15.20//NONSGML v1.0//EN
CALSCALE:GREGORIAN
METHOD:PUBLISH
X-WR-CALNAME:Warringah Archers
X-ORIGINAL-URL:https://warringaharchers.com.au
X-WR-CALDESC:Events for Warringah Archers
REFRESH-INTERVAL;VALUE=DURATION:PT1H
X-Robots-Tag:noindex
X-PUBLISHED-TTL:PT1H
BEGIN:VTIMEZONE
TZID:Australia/Sydney
BEGIN:STANDARD
TZOFFSETFROM:+1100
TZOFFSETTO:+1000
TZNAME:AEST
DTSTART:20250405T160000
END:STANDARD
BEGIN:DAYLIGHT
TZOFFSETFROM:+1000
TZOFFSETTO:+1100
TZNAME:AEDT
DTSTART:20251004T160000
END:DAYLIGHT
BEGIN:STANDARD
TZOFFSETFROM:+1100
TZOFFSETTO:+1000
TZNAME:AEST
DTSTART:20260404T160000
END:STANDARD
BEGIN:DAYLIGHT
TZOFFSETFROM:+1000
TZOFFSETTO:+1100
TZNAME:AEDT
DTSTART:20261003T160000
END:DAYLIGHT
BEGIN:STANDARD
TZOFFSETFROM:+1100
TZOFFSETTO:+1000
TZNAME:AEST
DTSTART:20270403T160000
END:STANDARD
BEGIN:DAYLIGHT
TZOFFSETFROM:+1000
TZOFFSETTO:+1100
TZNAME:AEDT
DTSTART:20271002T160000
END:DAYLIGHT
END:VTIMEZONE
BEGIN:VEVENT
DTSTART;TZID=Australia/Sydney:20260308T083000
DTEND;TZID=Australia/Sydney:20260308T120000
DTSTAMP:20260422T222121
CREATED:20251219T182050Z
LAST-MODIFIED:20260220T044904Z
UID:10000188-1772958600-1772971200@warringaharchers.com.au
SUMMARY:Warringah Archers: Launceston / Lukie Last / Peter Pan
DESCRIPTION:Ground Crew: Michael Palummo / Justin van Emmerik\n36 arrows @ 50m/30m\, 25m/20m\, 15m/10m (80cm face)
URL:https://warringaharchers.com.au/event/warringah-archers-launceston-lukie-last-peter-pan/
LOCATION:Warringah Archers\, 12 Inman Rd\, Cromer NSW 2099\, Australia\, 12 Inman Rd\, Cromer\, NSW\, 2099\, Australia
CATEGORIES:Club Shoots
END:VEVENT
BEGIN:VEVENT
DTSTART;TZID=Australia/Sydney:20260307T090000
DTEND;TZID=Australia/Sydney:20260307T110000
DTSTAMP:20260422T222121
CREATED:20260220T031314Z
LAST-MODIFIED:20260220T065159Z
UID:10000348-1772874000-1772881200@warringaharchers.com.au
SUMMARY:Come N Try Archery: International Womens Day
DESCRIPTION:To celebrate International Women’s Day 2026\, Warringah Archers is hosting a special Come N Try session designed to encourage women and girls of all ages to step onto the shooting line and give archery a go. This initiative is about getting women active\, building confidence\, and experiencing a sport that is both challenging and rewarding. \nOur Come N Try sessions are designed specifically for beginners with no prior experience. Over a relaxed two-hour session\, you’ll be introduced to the fundamentals of target archery by experienced club instructors\, with all equipment provided. You’ll learn safe shooting technique\, range etiquette\, and have plenty of time on the line to shoot arrows and build confidence in a supportive environment. \nThis session is open to all female members of the community\, regardless of age (juniors from age 6). Whether you’re looking to try something new\, build confidence\, or simply spend time doing something for yourself\, this is a safe and welcoming way to begin. Small group sizes ensure proper supervision and personalised instruction. Closed footwear is required\, and we recommend comfortable clothing suitable for outdoor conditions. \nWith Coach: Stirling Calandruccio
URL:https://warringaharchers.com.au/event/come-n-try-archery-stirling/
LOCATION:Warringah Archers\, 12 Inman Rd\, Cromer NSW 2099\, Australia\, 12 Inman Rd\, Cromer\, NSW\, 2099\, Australia
CATEGORIES:Come N Try
ATTACH;FMTTYPE=image/jpeg:https://warringaharchers.com.au/wp-content/uploads/2026/02/international_womens_day_2026.jpg
ORGANIZER;CN="Warringah Archers":MAILTO:info@warringaharchers.com.au
END:VEVENT
BEGIN:VEVENT
DTSTART;TZID=Australia/Sydney:20260302T160000
DTEND;TZID=Australia/Sydney:20260302T193000
DTSTAMP:20260422T222121
CREATED:20251219T182050Z
LAST-MODIFIED:20251221T183557Z
UID:10000186-1772467200-1772479800@warringaharchers.com.au
SUMMARY:Warringah Archers: Melbourne/Darwin/Geelong/Newcastle
DESCRIPTION:90 arrows @ 50m/40m/30m/20m (122cm face) practise for Women’s Day Tournament
URL:https://warringaharchers.com.au/event/warringah-archers-melbourne-darwin-geelong-newcastle-2/
LOCATION:Warringah Archers\, 12 Inman Rd\, Cromer NSW 2099\, Australia\, 12 Inman Rd\, Cromer\, NSW\, 2099\, Australia
CATEGORIES:Club Shoots
END:VEVENT
BEGIN:VEVENT
DTSTART;TZID=Australia/Sydney:20260301T083000
DTEND;TZID=Australia/Sydney:20260301T120000
DTSTAMP:20260422T222121
CREATED:20251219T182050Z
LAST-MODIFIED:20251221T183557Z
UID:10000185-1772353800-1772366400@warringaharchers.com.au
SUMMARY:Warringah Archers: Canberra / Short Canberra / Junior Canberra or The Nuggets (U12
DESCRIPTION:Ground Crew: Gregg & Jerry Barr-Jones / Michael Lintzer\n36 arrows @ 60m/50m/40m or 50m/40m/30m\, or 40m/30m/20m or 30m/20m/10m (122cm face) or 26 arrows @ 10m/5m on 80cm face – practise for Coast Archers Youth event being held in March
URL:https://warringaharchers.com.au/event/warringah-archers-canberra-short-canberra-junior-canberra-or-the-nuggets-u12/
LOCATION:Warringah Archers\, 12 Inman Rd\, Cromer NSW 2099\, Australia\, 12 Inman Rd\, Cromer\, NSW\, 2099\, Australia
CATEGORIES:Club Shoots
END:VEVENT
BEGIN:VEVENT
DTSTART;TZID=Australia/Sydney:20260228T090000
DTEND;TZID=Australia/Sydney:20260228T110000
DTSTAMP:20260422T222121
CREATED:20251205T232140Z
LAST-MODIFIED:20260119T013739Z
UID:10000113-1772269200-1772276400@warringaharchers.com.au
SUMMARY:Come N Try Archery: Noel Billyard
DESCRIPTION:With Coach: Noel Billyard \nOur Come N Try sessions are designed for beginners with no prior experience. Over a relaxed two-hour session\, you’ll be introduced to the basics of target archery by experienced club instructors\, with all equipment provided. You’ll learn safe shooting technique\, range etiquette\, and have plenty of time on the line to shoot arrows and build confidence. \nThese sessions are suitable for adults and juniors (from age 6)\, with small group sizes to ensure proper supervision and instruction. Closed footwear is required\, and we recommend comfortable clothing suitable for outdoor conditions. If you’ve ever been curious about archery\, this is the simplest and safest way to give it a go.
URL:https://warringaharchers.com.au/event/come-n-try-archery-noel-billyard-2/
LOCATION:Warringah Archers\, 12 Inman Rd\, Cromer NSW 2099\, Australia\, 12 Inman Rd\, Cromer\, NSW\, 2099\, Australia
CATEGORIES:Come N Try
ATTACH;FMTTYPE=image/png:https://warringaharchers.com.au/wp-content/uploads/2025/10/come_n_try_cartoon-e1765850994265.png
ORGANIZER;CN="Warringah Archers":MAILTO:info@warringaharchers.com.au
END:VEVENT
BEGIN:VEVENT
DTSTART;TZID=Australia/Sydney:20260228T083000
DTEND;TZID=Australia/Sydney:20260228T120000
DTSTAMP:20260422T222121
CREATED:20251219T182050Z
LAST-MODIFIED:20251221T183557Z
UID:10000184-1772267400-1772280000@warringaharchers.com.au
SUMMARY:Warringah Archers: Canberra / Short Canberra / Junior Canberra or Grinrod Special (U12
DESCRIPTION:Ground Crew: van der Watt Family\n36 arrows @ 60m/50m/40m or 50m/40m/30m\, or 40m/30m/20m or 30m/20m/10m (122cm face) or 26 arrows @ 10m/5m on 80cm face – Practise for Coast Archers Youth event in March
URL:https://warringaharchers.com.au/event/warringah-archers-canberra-short-canberra-junior-canberra-or-grinrod-special-u12/
LOCATION:Warringah Archers\, 12 Inman Rd\, Cromer NSW 2099\, Australia\, 12 Inman Rd\, Cromer\, NSW\, 2099\, Australia
CATEGORIES:Club Shoots
END:VEVENT
BEGIN:VEVENT
DTSTART;TZID=Australia/Sydney:20260225T160000
DTEND;TZID=Australia/Sydney:20260225T190000
DTSTAMP:20260422T222121
CREATED:20251219T182050Z
LAST-MODIFIED:20251221T183557Z
UID:10000183-1772035200-1772046000@warringaharchers.com.au
SUMMARY:Warringah Archers: Ranking Rounds
DESCRIPTION:Dependant on age & equipment being shot
URL:https://warringaharchers.com.au/event/warringah-archers-ranking-rounds/
LOCATION:Warringah Archers\, 12 Inman Rd\, Cromer NSW 2099\, Australia\, 12 Inman Rd\, Cromer\, NSW\, 2099\, Australia
CATEGORIES:Club Shoots
END:VEVENT
BEGIN:VEVENT
DTSTART;TZID=Australia/Sydney:20260223T161500
DTEND;TZID=Australia/Sydney:20260223T191500
DTSTAMP:20260422T222121
CREATED:20251219T182050Z
LAST-MODIFIED:20251221T183557Z
UID:10000182-1771863300-1771874100@warringaharchers.com.au
SUMMARY:Warringah Archers: Double Australian Indoor 1
DESCRIPTION:2 x 18m (40cm face)
URL:https://warringaharchers.com.au/event/warringah-archers-double-australian-indoor-1/
LOCATION:Warringah Archers\, 12 Inman Rd\, Cromer NSW 2099\, Australia\, 12 Inman Rd\, Cromer\, NSW\, 2099\, Australia
CATEGORIES:Club Shoots
END:VEVENT
BEGIN:VEVENT
DTSTART;TZID=Australia/Sydney:20260222T083000
DTEND;TZID=Australia/Sydney:20260222T120000
DTSTAMP:20260422T222121
CREATED:20251219T182050Z
LAST-MODIFIED:20260221T060932Z
UID:10000181-1771749000-1771761600@warringaharchers.com.au
SUMMARY:Warringah Archers: Warringah Handicap
DESCRIPTION:Ground Crew: Monica Camilleri / Jon & Eve Whitear \nOpen 50m/40m/30*m/18m#Junior 40m/30m/20*m/18m#Mini 20/15/10*10#
URL:https://warringaharchers.com.au/event/warringah-archers-warringah-handicap/
LOCATION:Warringah Archers\, 12 Inman Rd\, Cromer NSW 2099\, Australia\, 12 Inman Rd\, Cromer\, NSW\, 2099\, Australia
CATEGORIES:Club Shoots
END:VEVENT
BEGIN:VEVENT
DTSTART;TZID=Australia/Sydney:20260221T083000
DTEND;TZID=Australia/Sydney:20260221T120000
DTSTAMP:20260422T222121
CREATED:20251219T182050Z
LAST-MODIFIED:20251221T183557Z
UID:10000180-1771662600-1771675200@warringaharchers.com.au
SUMMARY:Warringah Archers: Ranking Round+Matchplay
DESCRIPTION:Ground Crew: Pisko Family\nRound dependant on age & equipment\, and registration is for Matchplay event.
URL:https://warringaharchers.com.au/event/warringah-archers-ranking-roundmatchplay/
LOCATION:Warringah Archers\, 12 Inman Rd\, Cromer NSW 2099\, Australia\, 12 Inman Rd\, Cromer\, NSW\, 2099\, Australia
CATEGORIES:Club Shoots
END:VEVENT
BEGIN:VEVENT
DTSTART;TZID=Australia/Sydney:20260217T160000
DTEND;TZID=Australia/Sydney:20260217T190000
DTSTAMP:20260422T222121
CREATED:20251219T182050Z
LAST-MODIFIED:20251221T183557Z
UID:10000179-1771344000-1771354800@warringaharchers.com.au
SUMMARY:Warringah Archers: Melbourne/Darwin/Geelong/Newcastle
DESCRIPTION:90 arrows @ 50m/40m/30m/20m (122cm face)
URL:https://warringaharchers.com.au/event/warringah-archers-melbourne-darwin-geelong-newcastle/
LOCATION:Warringah Archers\, 12 Inman Rd\, Cromer NSW 2099\, Australia\, 12 Inman Rd\, Cromer\, NSW\, 2099\, Australia
CATEGORIES:Club Shoots
END:VEVENT
BEGIN:VEVENT
DTSTART;TZID=Australia/Sydney:20260216T160000
DTEND;TZID=Australia/Sydney:20260216T190000
DTSTAMP:20260422T222121
CREATED:20251219T182049Z
LAST-MODIFIED:20251221T183557Z
UID:10000178-1771257600-1771268400@warringaharchers.com.au
SUMMARY:Warringah Archers: Australian Indoor 2 & 1 Combined & Lady Spencer
DESCRIPTION:30 arrows @ 25m (60cm face) then 30 arrows @ 18m (40cm face) or 30 arrows @ 10m 40cm face
URL:https://warringaharchers.com.au/event/warringah-archers-australian-indoor-2-1-combined-lady-spencer/
LOCATION:Warringah Archers\, 12 Inman Rd\, Cromer NSW 2099\, Australia\, 12 Inman Rd\, Cromer\, NSW\, 2099\, Australia
CATEGORIES:Club Shoots
END:VEVENT
BEGIN:VEVENT
DTSTART;TZID=Australia/Sydney:20260215T090000
DTEND;TZID=Australia/Sydney:20260215T120000
DTSTAMP:20260422T222121
CREATED:20251218T180150Z
LAST-MODIFIED:20260209T040503Z
UID:10000171-1771146000-1771156800@warringaharchers.com.au
SUMMARY:Warringah Youth Training Day for Youth Nationals
DESCRIPTION:Warringah Youth Training Day for Youth Nationals\, other youth members welcome to attend\, but will be under different coaching supervision.
URL:https://warringaharchers.com.au/event/warringah-youth-training-day-for-youth-nationals/
LOCATION:Warringah Archers\, 12 Inman Rd\, Cromer NSW 2099\, Australia\, 12 Inman Rd\, Cromer\, NSW\, 2099\, Australia
CATEGORIES:Club Events
END:VEVENT
BEGIN:VEVENT
DTSTART;TZID=Australia/Sydney:20260215T083000
DTEND;TZID=Australia/Sydney:20260215T120000
DTSTAMP:20260422T222121
CREATED:20251218T180150Z
LAST-MODIFIED:20251221T183557Z
UID:10000170-1771144200-1771156800@warringaharchers.com.au
SUMMARY:Warringah Archers: Bellingen /Ballina / Fortress / Ricker Treat
DESCRIPTION:Ground Crew: Verzosa Family\n90 arrows @ 65m or 55m or 35m or 15m (U12) on 122cm face
URL:https://warringaharchers.com.au/event/bellingen-ballina-fortress-ricker-treat/
LOCATION:Warringah Archers\, 12 Inman Rd\, Cromer NSW 2099\, Australia\, 12 Inman Rd\, Cromer\, NSW\, 2099\, Australia
CATEGORIES:Club Shoots
END:VEVENT
BEGIN:VEVENT
DTSTART;TZID=Australia/Sydney:20260214T090000
DTEND;TZID=Australia/Sydney:20260214T110000
DTSTAMP:20260422T222121
CREATED:20251205T232140Z
LAST-MODIFIED:20260212T112403Z
UID:10000112-1771059600-1771066800@warringaharchers.com.au
SUMMARY:🩷 Come N Try Archery: Warringah Archers - Cupid Shoot 🩷
DESCRIPTION:Warringah Archers\nCupid Shoot\n  \n\n\n  \n	\n\n		\n		\n		\n\n		\n\n		\n\n\n\n	Tickets\n\n		\n	\n	\n		The numbers below include tickets for this event already in your cart. Clicking "Get Tickets" will allow you to edit any existing attendee information as well as change ticket quantities.	\n\n\n		\n		\n		\n	\n		Tickets are no longer available	\n\n\n		\n	\n	\n\n	\n	\n\n	\n	\n\n\n\n			\n\n	\n\n\n\n\n\n\n  \nJOIN US FOR AN ADVENTURE WITH LOVE AND ARROWS IN THE AIR! \nGRAB YOUR PARTNER\, FRIEND or  COME SOLO. \nLET CUPID’S ARROWS FLYSTRAIGHT TO THE HEART OR BULL’S EYE THIS VALENTINE’S DAY! \n  \n\n  $30 PER PERSON\n\nOur Come N Try sessions are designed for beginners with no prior experience. Over a relaxed two-hour session\, you’ll be introduced to the basics of target archery by experienced club instructors\, with all equipment provided. You’ll learn safe shooting technique\, range etiquette\, and have plenty of time on the line to shoot arrows and build confidence. \n\nThese sessions are suitable for adults and juniors (from age 6)\, with small group sizes to ensure proper supervision and instruction. Closed footwear is required\, and we recommend comfortable clothing suitable for outdoor conditions. If you’ve ever been curious about archery\, this is the simplest and safest way to give it a go. \n\nWith Coach: Elizabeth Jennison \n 
URL:https://warringaharchers.com.au/event/come-n-try-archery-noel-billyard-4/
LOCATION:Warringah Archers\, 12 Inman Rd\, Cromer NSW 2099\, Australia\, 12 Inman Rd\, Cromer\, NSW\, 2099\, Australia
CATEGORIES:Come N Try
ORGANIZER;CN="Warringah Archers":MAILTO:info@warringaharchers.com.au
END:VEVENT
BEGIN:VEVENT
DTSTART;TZID=Australia/Sydney:20260214T083000
DTEND;TZID=Australia/Sydney:20260214T120000
DTSTAMP:20260422T222121
CREATED:20251218T180150Z
LAST-MODIFIED:20251221T183557Z
UID:10000169-1771057800-1771070400@warringaharchers.com.au
SUMMARY:Warringah Archers: Canberra / Short Canberra / Junior Canberra or The Nuggets (U12)
DESCRIPTION:Ground Crew: Young Family\n36 arrows @ 60m/50m/40m or 50m/40m/30m\, or 40m/30m/20m or 30m/20m/10m (122cm face) or 36 arrows @ 10m/5m on 80cm face (U12)
URL:https://warringaharchers.com.au/event/canberra-short-canberra-junior-canberra-or-the-nuggets-u12/
LOCATION:Warringah Archers\, 12 Inman Rd\, Cromer NSW 2099\, Australia\, 12 Inman Rd\, Cromer\, NSW\, 2099\, Australia
CATEGORIES:Club Shoots
END:VEVENT
END:VCALENDAR