BEGIN:VCALENDAR
VERSION:2.0
PRODID:-//Warringah Archers - ECPv6.15.20//NONSGML v1.0//EN
CALSCALE:GREGORIAN
METHOD:PUBLISH
X-WR-CALNAME:Warringah Archers
X-ORIGINAL-URL:https://warringaharchers.com.au
X-WR-CALDESC:Events for Warringah Archers
REFRESH-INTERVAL;VALUE=DURATION:PT1H
X-Robots-Tag:noindex
X-PUBLISHED-TTL:PT1H
BEGIN:VTIMEZONE
TZID:Australia/Sydney
BEGIN:STANDARD
TZOFFSETFROM:+1100
TZOFFSETTO:+1000
TZNAME:AEST
DTSTART:20250405T160000
END:STANDARD
BEGIN:DAYLIGHT
TZOFFSETFROM:+1000
TZOFFSETTO:+1100
TZNAME:AEDT
DTSTART:20251004T160000
END:DAYLIGHT
BEGIN:STANDARD
TZOFFSETFROM:+1100
TZOFFSETTO:+1000
TZNAME:AEST
DTSTART:20260404T160000
END:STANDARD
BEGIN:DAYLIGHT
TZOFFSETFROM:+1000
TZOFFSETTO:+1100
TZNAME:AEDT
DTSTART:20261003T160000
END:DAYLIGHT
BEGIN:STANDARD
TZOFFSETFROM:+1100
TZOFFSETTO:+1000
TZNAME:AEST
DTSTART:20270403T160000
END:STANDARD
BEGIN:DAYLIGHT
TZOFFSETFROM:+1000
TZOFFSETTO:+1100
TZNAME:AEDT
DTSTART:20271002T160000
END:DAYLIGHT
END:VTIMEZONE
BEGIN:VEVENT
DTSTART;TZID=Australia/Sydney:20260405T090000
DTEND;TZID=Australia/Sydney:20260405T120000
DTSTAMP:20260422T191254
CREATED:20260211T211613Z
LAST-MODIFIED:20260310T004249Z
UID:10000339-1775379600-1775390400@warringaharchers.com.au
SUMMARY:Warringah Youth Development Day - Final Preparation for those going to Youth Nationals
DESCRIPTION:Preparation for those attending Youth Nationals
URL:https://warringaharchers.com.au/event/warringah-youth-development-day-final-preparation-for-those-going-to-youth-nationals/
LOCATION:Warringah Archers\, 12 Inman Rd\, Cromer NSW 2099\, Australia\, 12 Inman Rd\, Cromer\, NSW\, 2099\, Australia
CATEGORIES:Club Events
END:VEVENT
BEGIN:VEVENT
DTSTART;TZID=Australia/Sydney:20260405T080000
DTEND;TZID=Australia/Sydney:20260405T120000
DTSTAMP:20260422T191254
CREATED:20260202T220905Z
LAST-MODIFIED:20260202T220905Z
UID:10000312-1775376000-1775390400@warringaharchers.com.au
SUMMARY:Easter Sunday FUN SHOOT (all members)
DESCRIPTION:Ground Crew: Elizabeth Jennison / Jack Chambers-McLean\nVariety of Distances & Fun Faces
URL:https://warringaharchers.com.au/event/easter-sunday-fun-shoot-all-members/
LOCATION:Warringah Archers\, 12 Inman Rd\, Cromer NSW 2099\, Australia\, 12 Inman Rd\, Cromer\, NSW\, 2099\, Australia
CATEGORIES:Club Shoots
END:VEVENT
BEGIN:VEVENT
DTSTART;TZID=Australia/Sydney:20260404T090000
DTEND;TZID=Australia/Sydney:20260404T110000
DTSTAMP:20260422T191254
CREATED:20251205T232406Z
LAST-MODIFIED:20260315T114405Z
UID:10000137-1775293200-1775300400@warringaharchers.com.au
SUMMARY:Beginner Course: Danny - Week 4
DESCRIPTION:This is the fourth week of our Beginners Course with Coach Danny. \nBeginner Archery Course (3–4 Weeks)\nWarringah Archers’ Beginner Course is a structured progression from introductory shooting to consistent\, independent practice. The course runs over three or four weekly sessions\, each lasting two hours\, and is designed for those who have completed at least one Come N Try session or have equivalent exposure to archery basics. \nAcross the course you’ll cover range safety\, equipment handling\, warm-up and cool-down routines\, and the fundamentals of target archery. Instruction focuses on building a repeatable shot process\, including stance\, bow hand\, draw\, anchor\, aim\, release\, and follow-through\, along with practical skills such as target set-up\, arrow selection\, and basic equipment care. \nAn optional fourth session provides the opportunity to shoot alongside club members under normal club conditions. This session runs at a different time and details are provided during the course. On completion\, participants will have the knowledge required to select and maintain basic equipment\, understand scoring\, and continue shooting safely and confidently at club level. \nMore information on the Beginners Course.
URL:https://warringaharchers.com.au/event/beginner-course-danny-4/
LOCATION:Warringah Archers\, 12 Inman Rd\, Cromer NSW 2099\, Australia\, 12 Inman Rd\, Cromer\, NSW\, 2099\, Australia
CATEGORIES:Beginner Courses
ATTACH;FMTTYPE=image/jpeg:https://warringaharchers.com.au/wp-content/uploads/2025/12/come_n_try_targets.jpg
END:VEVENT
BEGIN:VEVENT
DTSTART;TZID=Australia/Sydney:20260404T080000
DTEND;TZID=Australia/Sydney:20260404T120000
DTSTAMP:20260422T191254
CREATED:20260202T220905Z
LAST-MODIFIED:20260202T220905Z
UID:10000311-1775289600-1775304000@warringaharchers.com.au
SUMMARY:Easter Saturday-Warringah Handicap
DESCRIPTION:Ground Crew: Corey Rowell & Lucette Rutherford\nOpen 50/40/30*/18#\, Junior 40/30/20*18#\, Mini 20m/15m/10*m/10m#
URL:https://warringaharchers.com.au/event/easter-saturday-warringah-handicap/
LOCATION:Warringah Archers\, 12 Inman Rd\, Cromer NSW 2099\, Australia\, 12 Inman Rd\, Cromer\, NSW\, 2099\, Australia
CATEGORIES:Club Shoots
END:VEVENT
BEGIN:VEVENT
DTSTART;TZID=Australia/Sydney:20260403T080000
DTEND;TZID=Australia/Sydney:20260403T160000
DTSTAMP:20260422T191254
CREATED:20260202T220905Z
LAST-MODIFIED:20260401T203233Z
UID:10000310-1775203200-1775232000@warringaharchers.com.au
SUMMARY:Good Friday - Ranking Rounds
DESCRIPTION:Good Friday-Dependant on age group & Equipment\nRange open: 8AM – 4PM
URL:https://warringaharchers.com.au/event/good-friday-ranking-rounds/
LOCATION:Warringah Archers\, 12 Inman Rd\, Cromer NSW 2099\, Australia\, 12 Inman Rd\, Cromer\, NSW\, 2099\, Australia
CATEGORIES:Club Shoots
END:VEVENT
BEGIN:VEVENT
DTSTART;TZID=Australia/Sydney:20260401T160000
DTEND;TZID=Australia/Sydney:20260401T190000
DTSTAMP:20260422T191254
CREATED:20260202T220905Z
LAST-MODIFIED:20260202T220905Z
UID:10000309-1775059200-1775070000@warringaharchers.com.au
SUMMARY:WA Indoor 1 & Pound Stirling (for U12/New members)
DESCRIPTION:60 arrows @ 18m 40cm face or 18m on 80cm face
URL:https://warringaharchers.com.au/event/wa-indoor-1-pound-stirling-for-u12-new-members/
LOCATION:Warringah Archers\, 12 Inman Rd\, Cromer NSW 2099\, Australia\, 12 Inman Rd\, Cromer\, NSW\, 2099\, Australia
CATEGORIES:Club Shoots
END:VEVENT
BEGIN:VEVENT
DTSTART;TZID=Australia/Sydney:20260330T160000
DTEND;TZID=Australia/Sydney:20260330T190000
DTSTAMP:20260422T191254
CREATED:20251219T182051Z
LAST-MODIFIED:20251221T183558Z
UID:10000201-1774886400-1774897200@warringaharchers.com.au
SUMMARY:Warringah Archers: Australian Indoor 1 x Double or Lady Spencer (U12)
DESCRIPTION:30 arrows @ 18m on 40cm face or 10m on 40cm face
URL:https://warringaharchers.com.au/event/warringah-archers-australian-indoor-1-x-double-or-lady-spencer-u12/
LOCATION:Warringah Archers\, 12 Inman Rd\, Cromer NSW 2099\, Australia\, 12 Inman Rd\, Cromer\, NSW\, 2099\, Australia
CATEGORIES:Club Shoots
END:VEVENT
BEGIN:VEVENT
DTSTART;TZID=Australia/Sydney:20260329T090000
DTEND;TZID=Australia/Sydney:20260329T110000
DTSTAMP:20260422T191254
CREATED:20251219T182046Z
LAST-MODIFIED:20251221T185018Z
UID:10000177-1774774800-1774782000@warringaharchers.com.au
SUMMARY:Warringah Youth Training Day for Youth Nationals
DESCRIPTION:Group will be split into 2\, those attending Nationals (All others under Separate Coach)
URL:https://warringaharchers.com.au/event/warringah-youth-training-day-for-youth-nationals-3/
LOCATION:Warringah Archers\, 12 Inman Rd\, Cromer NSW 2099\, Australia\, 12 Inman Rd\, Cromer\, NSW\, 2099\, Australia
CATEGORIES:Club Events
END:VEVENT
BEGIN:VEVENT
DTSTART;TZID=Australia/Sydney:20260329T083000
DTEND;TZID=Australia/Sydney:20260329T120000
DTSTAMP:20260422T191254
CREATED:20251219T182051Z
LAST-MODIFIED:20251221T183558Z
UID:10000200-1774773000-1774785600@warringaharchers.com.au
SUMMARY:Warringah Archers: Ballina/Fortress/Kiwi Chatter
DESCRIPTION:Ground Crew: Jeremie Celdran / Rogers Family\n 90 arrows @ 55m\, or 35m\, or 25m (122cm face)
URL:https://warringaharchers.com.au/event/warringah-archers-ballina-fortress-kiwi-chatter/
LOCATION:Warringah Archers\, 12 Inman Rd\, Cromer NSW 2099\, Australia\, 12 Inman Rd\, Cromer\, NSW\, 2099\, Australia
CATEGORIES:Club Shoots
END:VEVENT
BEGIN:VEVENT
DTSTART;TZID=Australia/Sydney:20260328T090000
DTEND;TZID=Australia/Sydney:20260328T110000
DTSTAMP:20260422T191254
CREATED:20251205T232406Z
LAST-MODIFIED:20260316T212335Z
UID:10000136-1774688400-1774695600@warringaharchers.com.au
SUMMARY:Beginner Course: Danny - Week 3
DESCRIPTION:This is the third week of our Beginners Course with Coach Danny. \nBeginner Archery Course (3–4 Weeks)\nWarringah Archers’ Beginner Course is a structured progression from introductory shooting to consistent\, independent practice. The course runs over three or four weekly sessions\, each lasting two hours\, and is designed for those who have completed at least one Come N Try session or have equivalent exposure to archery basics. \nAcross the course you’ll cover range safety\, equipment handling\, warm-up and cool-down routines\, and the fundamentals of target archery. Instruction focuses on building a repeatable shot process\, including stance\, bow hand\, draw\, anchor\, aim\, release\, and follow-through\, along with practical skills such as target set-up\, arrow selection\, and basic equipment care. \nAn optional fourth session provides the opportunity to shoot alongside club members under normal club conditions. This session runs at a different time and details are provided during the course. On completion\, participants will have the knowledge required to select and maintain basic equipment\, understand scoring\, and continue shooting safely and confidently at club level. \nMore information on the Beginners Course.
URL:https://warringaharchers.com.au/event/beginner-course-danny-3/
LOCATION:Warringah Archers\, 12 Inman Rd\, Cromer NSW 2099\, Australia\, 12 Inman Rd\, Cromer\, NSW\, 2099\, Australia
CATEGORIES:Beginner Courses
ATTACH;FMTTYPE=image/jpeg:https://warringaharchers.com.au/wp-content/uploads/2026/01/beginners_course_fb.jpg
END:VEVENT
BEGIN:VEVENT
DTSTART;TZID=Australia/Sydney:20260328T083000
DTEND;TZID=Australia/Sydney:20260328T120000
DTSTAMP:20260422T191254
CREATED:20251219T182051Z
LAST-MODIFIED:20251221T183558Z
UID:10000199-1774686600-1774699200@warringaharchers.com.au
SUMMARY:Warringah Archers: Perth / Golden Gong / Newcastle
DESCRIPTION:Ground Crew: Faz & Orlando Jalali / Corey Rowell\n30 arrows @ 70/60/50m or 30/25/20m or 20m
URL:https://warringaharchers.com.au/event/warringah-archers-perth-golden-gong-newcastle/
LOCATION:Warringah Archers\, 12 Inman Rd\, Cromer NSW 2099\, Australia\, 12 Inman Rd\, Cromer\, NSW\, 2099\, Australia
CATEGORIES:Club Shoots
END:VEVENT
BEGIN:VEVENT
DTSTART;TZID=Australia/Sydney:20260325T160000
DTEND;TZID=Australia/Sydney:20260325T190000
DTSTAMP:20260422T191254
CREATED:20251219T182051Z
LAST-MODIFIED:20251221T183558Z
UID:10000198-1774454400-1774465200@warringaharchers.com.au
SUMMARY:Warringah Archers: Grange / Geelong or Ricker Treat (U12)
DESCRIPTION:90 arrows @ 60m or 30m or 15m (122cm face)
URL:https://warringaharchers.com.au/event/warringah-archers-grange-geelong-or-ricker-treat-u12/
LOCATION:Warringah Archers\, 12 Inman Rd\, Cromer NSW 2099\, Australia\, 12 Inman Rd\, Cromer\, NSW\, 2099\, Australia
CATEGORIES:Club Shoots
END:VEVENT
BEGIN:VEVENT
DTSTART;TZID=Australia/Sydney:20260322T083000
DTEND;TZID=Australia/Sydney:20260322T120000
DTSTAMP:20260422T191254
CREATED:20251219T182051Z
LAST-MODIFIED:20251221T183558Z
UID:10000196-1774168200-1774180800@warringaharchers.com.au
SUMMARY:Warringah Archers: Brisbane/Junior Adelaide/Mini Adelaide
DESCRIPTION:Ground Crew: Timmer Family\n90 arrows @ 70/60/50*/40* or 40/35/30*/25* or 25/20/15*/10*
URL:https://warringaharchers.com.au/event/warringah-archers-brisbane-junior-adelaide-mini-adelaide/
LOCATION:Warringah Archers\, 12 Inman Rd\, Cromer NSW 2099\, Australia\, 12 Inman Rd\, Cromer\, NSW\, 2099\, Australia
CATEGORIES:Club Shoots
END:VEVENT
BEGIN:VEVENT
DTSTART;TZID=Australia/Sydney:20260321T090000
DTEND;TZID=Australia/Sydney:20260321T110000
DTSTAMP:20260422T191254
CREATED:20251205T232406Z
LAST-MODIFIED:20260316T095244Z
UID:10000135-1774083600-1774090800@warringaharchers.com.au
SUMMARY:Beginner Course: Danny - Week 2
DESCRIPTION:This is the second weekend of the Beginners Course. \nBeginner Archery Course (3–4 Weeks)\nWarringah Archers’ Beginner Course is a structured progression from introductory shooting to consistent\, independent practice. The course runs over three or four weekly sessions\, each lasting two hours\, and is designed for those who have completed at least one Come N Try session or have equivalent exposure to archery basics. \nAcross the course you’ll cover range safety\, equipment handling\, warm-up and cool-down routines\, and the fundamentals of target archery. Instruction focuses on building a repeatable shot process\, including stance\, bow hand\, draw\, anchor\, aim\, release\, and follow-through\, along with practical skills such as target set-up\, arrow selection\, and basic equipment care. \nAn optional fourth session provides the opportunity to shoot alongside club members under normal club conditions. This session runs at a different time and details are provided during the course. On completion\, participants will have the knowledge required to select and maintain basic equipment\, understand scoring\, and continue shooting safely and confidently at club level. \nMore information on the Beginners Course.
URL:https://warringaharchers.com.au/event/beginner-course-danny-2/
LOCATION:Warringah Archers\, 12 Inman Rd\, Cromer NSW 2099\, Australia\, 12 Inman Rd\, Cromer\, NSW\, 2099\, Australia
CATEGORIES:Beginner Courses
ATTACH;FMTTYPE=image/jpeg:https://warringaharchers.com.au/wp-content/uploads/2026/01/beginners_course_fb.jpg
END:VEVENT
BEGIN:VEVENT
DTSTART;TZID=Australia/Sydney:20260321T090000
DTEND;TZID=Australia/Sydney:20260321T110000
DTSTAMP:20260422T191254
CREATED:20251205T232141Z
LAST-MODIFIED:20260310T032241Z
UID:10000115-1774083600-1774090800@warringaharchers.com.au
SUMMARY:Come N Try Archery: Noel Billyard
DESCRIPTION:Our Come N Try sessions are designed for beginners with no prior experience. Over a relaxed two-hour session\, you’ll be introduced to the basics of target archery by experienced club instructors\, with all equipment provided. You’ll learn safe shooting technique\, range etiquette\, and have plenty of time on the line to shoot arrows and build confidence. \nThese sessions are suitable for adults and juniors (from age 6)\, with small group sizes to ensure proper supervision and instruction. Closed footwear is required\, and we recommend comfortable clothing suitable for outdoor conditions. If you’ve ever been curious about archery\, this is the simplest and safest way to give it a go. \nWith Coach: Noel Billyard
URL:https://warringaharchers.com.au/event/come-n-try-archery-noel-billyard-3/
LOCATION:Warringah Archers\, 12 Inman Rd\, Cromer NSW 2099\, Australia\, 12 Inman Rd\, Cromer\, NSW\, 2099\, Australia
CATEGORIES:Come N Try
ATTACH;FMTTYPE=image/png:https://warringaharchers.com.au/wp-content/uploads/2025/10/come_n_try_cartoon-e1765850994265.png
ORGANIZER;CN="Warringah Archers":MAILTO:info@warringaharchers.com.au
END:VEVENT
BEGIN:VEVENT
DTSTART;TZID=Australia/Sydney:20260318T160000
DTEND;TZID=Australia/Sydney:20260318T190000
DTSTAMP:20260422T191254
CREATED:20251219T182051Z
LAST-MODIFIED:20251221T183558Z
UID:10000194-1773849600-1773860400@warringaharchers.com.au
SUMMARY:Warringah Archers: Bellingen / Elizabeth/Kiwi Chatter/Ricker Treat
DESCRIPTION:90 arrows @ 65m or 45m or 25m or 15m (122cm face)
URL:https://warringaharchers.com.au/event/warringah-archers-bellingen-elizabeth-kiwi-chatter-ricker-treat-2/
LOCATION:Warringah Archers\, 12 Inman Rd\, Cromer NSW 2099\, Australia\, 12 Inman Rd\, Cromer\, NSW\, 2099\, Australia
CATEGORIES:Club Shoots
END:VEVENT
BEGIN:VEVENT
DTSTART;TZID=Australia/Sydney:20260316T160000
DTEND;TZID=Australia/Sydney:20260316T190000
DTSTAMP:20260422T191254
CREATED:20251219T182051Z
LAST-MODIFIED:20251221T183558Z
UID:10000193-1773676800-1773687600@warringaharchers.com.au
SUMMARY:Warringah Archers: Grange / Geelong / Newcastle
DESCRIPTION:90 arrows @ 60m or 30m or 20m (122cm face)
URL:https://warringaharchers.com.au/event/warringah-archers-grange-geelong-newcastle/
LOCATION:Warringah Archers\, 12 Inman Rd\, Cromer NSW 2099\, Australia\, 12 Inman Rd\, Cromer\, NSW\, 2099\, Australia
CATEGORIES:Club Shoots
END:VEVENT
BEGIN:VEVENT
DTSTART;TZID=Australia/Sydney:20260315T083000
DTEND;TZID=Australia/Sydney:20260315T120000
DTSTAMP:20260422T191254
CREATED:20251219T182046Z
LAST-MODIFIED:20251221T185018Z
UID:10000176-1773563400-1773576000@warringaharchers.com.au
SUMMARY:Warringah Youth Training Day
DESCRIPTION:To be run in conjunction with Club Ranking/Matchplay event
URL:https://warringaharchers.com.au/event/warringah-youth-training-day-2/
LOCATION:Warringah Archers\, 12 Inman Rd\, Cromer NSW 2099\, Australia\, 12 Inman Rd\, Cromer\, NSW\, 2099\, Australia
CATEGORIES:Club Events
END:VEVENT
BEGIN:VEVENT
DTSTART;TZID=Australia/Sydney:20260315T083000
DTEND;TZID=Australia/Sydney:20260315T113000
DTSTAMP:20260422T191254
CREATED:20251219T182051Z
LAST-MODIFIED:20251221T183558Z
UID:10000192-1773563400-1773574200@warringaharchers.com.au
SUMMARY:Warringah Archers: Ranking Round+Matchplay
DESCRIPTION:Dependant on age & equipment\, but distance & registration will apply to Matchplay\, includes all Youth Members
URL:https://warringaharchers.com.au/event/warringah-archers-ranking-roundmatchplay-2/
LOCATION:Warringah Archers\, 12 Inman Rd\, Cromer NSW 2099\, Australia\, 12 Inman Rd\, Cromer\, NSW\, 2099\, Australia
CATEGORIES:Club Shoots
END:VEVENT
BEGIN:VEVENT
DTSTART;TZID=Australia/Sydney:20260314T090000
DTEND;TZID=Australia/Sydney:20260314T120000
DTSTAMP:20260422T191254
CREATED:20251205T232406Z
LAST-MODIFIED:20251230T030450Z
UID:10000134-1773478800-1773489600@warringaharchers.com.au
SUMMARY:Beginner Course: Danny - Week 1
DESCRIPTION:This is the first weekend of the Beginners Course. \nBeginner Archery Course (3–4 Weeks)\nWarringah Archers’ Beginner Course is a structured progression from introductory shooting to consistent\, independent practice. The course runs over three or four weekly sessions\, each lasting two hours\, and is designed for those who have completed at least one Come N Try session or have equivalent exposure to archery basics. \nAcross the course you’ll cover range safety\, equipment handling\, warm-up and cool-down routines\, and the fundamentals of target archery. Instruction focuses on building a repeatable shot process\, including stance\, bow hand\, draw\, anchor\, aim\, release\, and follow-through\, along with practical skills such as target set-up\, arrow selection\, and basic equipment care. \nAn optional fourth session provides the opportunity to shoot alongside club members under normal club conditions. This session runs at a different time and details are provided during the course. On completion\, participants will have the knowledge required to select and maintain basic equipment\, understand scoring\, and continue shooting safely and confidently at club level.
URL:https://warringaharchers.com.au/event/beginner-course-danny/
LOCATION:Warringah Archers\, 12 Inman Rd\, Cromer NSW 2099\, Australia\, 12 Inman Rd\, Cromer\, NSW\, 2099\, Australia
CATEGORIES:Beginner Courses
ATTACH;FMTTYPE=image/jpeg:https://warringaharchers.com.au/wp-content/uploads/2025/12/come_n_try_group.jpg
END:VEVENT
BEGIN:VEVENT
DTSTART;TZID=Australia/Sydney:20260314T083000
DTEND;TZID=Australia/Sydney:20260314T120000
DTSTAMP:20260422T191254
CREATED:20251219T182051Z
LAST-MODIFIED:20251221T183558Z
UID:10000191-1773477000-1773489600@warringaharchers.com.au
SUMMARY:Warringah Archers: Northern Beaches to Coast Interclub Handicap Shoot
DESCRIPTION:Ground Crew: Celia Ng / Michael & Fletcher Chapman\nOpen 50m/40m/30*m/18m#\, Junior 40m/30m/20*m/18m#\, Mini 20/15/10*/10#
URL:https://warringaharchers.com.au/event/warringah-archers-northern-beaches-to-coast-interclub-handicap-shoot/
LOCATION:Warringah Archers\, 12 Inman Rd\, Cromer NSW 2099\, Australia\, 12 Inman Rd\, Cromer\, NSW\, 2099\, Australia
CATEGORIES:Club Shoots
END:VEVENT
BEGIN:VEVENT
DTSTART;TZID=Australia/Sydney:20260311T160000
DTEND;TZID=Australia/Sydney:20260311T190000
DTSTAMP:20260422T191254
CREATED:20251219T182050Z
LAST-MODIFIED:20251221T183557Z
UID:10000190-1773244800-1773255600@warringaharchers.com.au
SUMMARY:Warringah Archers: Holt / Drake / Jodie Joker (U12)
DESCRIPTION:90 arrows @ 50m or 30m or 20 (80cm face)
URL:https://warringaharchers.com.au/event/warringah-archers-holt-drake-jodie-joker-u12/
LOCATION:Warringah Archers\, 12 Inman Rd\, Cromer NSW 2099\, Australia\, 12 Inman Rd\, Cromer\, NSW\, 2099\, Australia
CATEGORIES:Club Shoots
END:VEVENT
BEGIN:VEVENT
DTSTART;TZID=Australia/Sydney:20260309T160000
DTEND;TZID=Australia/Sydney:20260309T190000
DTSTAMP:20260422T191254
CREATED:20251219T182050Z
LAST-MODIFIED:20251221T183557Z
UID:10000189-1773072000-1773082800@warringaharchers.com.au
SUMMARY:Warringah Archers: Samford / Jodie Joker / Young Ones (U12)
DESCRIPTION:90 arrows @ 40m or 20m or 10m (80cm face)
URL:https://warringaharchers.com.au/event/warringah-archers-samford-jodie-joker-young-ones-u12-2/
LOCATION:Warringah Archers\, 12 Inman Rd\, Cromer NSW 2099\, Australia\, 12 Inman Rd\, Cromer\, NSW\, 2099\, Australia
CATEGORIES:Club Shoots
END:VEVENT
BEGIN:VEVENT
DTSTART;TZID=Australia/Sydney:20260308T090000
DTEND;TZID=Australia/Sydney:20260308T110000
DTSTAMP:20260422T191254
CREATED:20251205T232140Z
LAST-MODIFIED:20260119T013731Z
UID:10000114-1772960400-1772967600@warringaharchers.com.au
SUMMARY:Come N Try Archery: Ben Mauger
DESCRIPTION:International Women’s Day \nOur Come N Try sessions are designed for beginners with no prior experience. Over a relaxed two-hour session\, you’ll be introduced to the basics of target archery by experienced club instructors\, with all equipment provided. You’ll learn safe shooting technique\, range etiquette\, and have plenty of time on the line to shoot arrows and build confidence. \nThese sessions are suitable for adults and juniors (from age 6)\, with small group sizes to ensure proper supervision and instruction. Closed footwear is required\, and we recommend comfortable clothing suitable for outdoor conditions. If you’ve ever been curious about archery\, this is the simplest and safest way to give it a go. \nWith Coach: Ben Mauger
URL:https://warringaharchers.com.au/event/come-n-try-archery-ben-mauger-2/
LOCATION:Warringah Archers\, 12 Inman Rd\, Cromer NSW 2099\, Australia\, 12 Inman Rd\, Cromer\, NSW\, 2099\, Australia
CATEGORIES:Come N Try
ATTACH;FMTTYPE=image/png:https://warringaharchers.com.au/wp-content/uploads/2025/10/come_n_try_cartoon-e1765850994265.png
END:VEVENT
BEGIN:VEVENT
DTSTART;TZID=Australia/Sydney:20260308T083000
DTEND;TZID=Australia/Sydney:20260308T120000
DTSTAMP:20260422T191254
CREATED:20251219T182050Z
LAST-MODIFIED:20260220T044904Z
UID:10000188-1772958600-1772971200@warringaharchers.com.au
SUMMARY:Warringah Archers: Launceston / Lukie Last / Peter Pan
DESCRIPTION:Ground Crew: Michael Palummo / Justin van Emmerik\n36 arrows @ 50m/30m\, 25m/20m\, 15m/10m (80cm face)
URL:https://warringaharchers.com.au/event/warringah-archers-launceston-lukie-last-peter-pan/
LOCATION:Warringah Archers\, 12 Inman Rd\, Cromer NSW 2099\, Australia\, 12 Inman Rd\, Cromer\, NSW\, 2099\, Australia
CATEGORIES:Club Shoots
END:VEVENT
BEGIN:VEVENT
DTSTART;TZID=Australia/Sydney:20260307T090000
DTEND;TZID=Australia/Sydney:20260307T110000
DTSTAMP:20260422T191254
CREATED:20260220T031314Z
LAST-MODIFIED:20260220T065159Z
UID:10000348-1772874000-1772881200@warringaharchers.com.au
SUMMARY:Come N Try Archery: International Womens Day
DESCRIPTION:To celebrate International Women’s Day 2026\, Warringah Archers is hosting a special Come N Try session designed to encourage women and girls of all ages to step onto the shooting line and give archery a go. This initiative is about getting women active\, building confidence\, and experiencing a sport that is both challenging and rewarding. \nOur Come N Try sessions are designed specifically for beginners with no prior experience. Over a relaxed two-hour session\, you’ll be introduced to the fundamentals of target archery by experienced club instructors\, with all equipment provided. You’ll learn safe shooting technique\, range etiquette\, and have plenty of time on the line to shoot arrows and build confidence in a supportive environment. \nThis session is open to all female members of the community\, regardless of age (juniors from age 6). Whether you’re looking to try something new\, build confidence\, or simply spend time doing something for yourself\, this is a safe and welcoming way to begin. Small group sizes ensure proper supervision and personalised instruction. Closed footwear is required\, and we recommend comfortable clothing suitable for outdoor conditions. \nWith Coach: Stirling Calandruccio
URL:https://warringaharchers.com.au/event/come-n-try-archery-stirling/
LOCATION:Warringah Archers\, 12 Inman Rd\, Cromer NSW 2099\, Australia\, 12 Inman Rd\, Cromer\, NSW\, 2099\, Australia
CATEGORIES:Come N Try
ATTACH;FMTTYPE=image/jpeg:https://warringaharchers.com.au/wp-content/uploads/2026/02/international_womens_day_2026.jpg
ORGANIZER;CN="Warringah Archers":MAILTO:info@warringaharchers.com.au
END:VEVENT
BEGIN:VEVENT
DTSTART;TZID=Australia/Sydney:20260302T160000
DTEND;TZID=Australia/Sydney:20260302T193000
DTSTAMP:20260422T191254
CREATED:20251219T182050Z
LAST-MODIFIED:20251221T183557Z
UID:10000186-1772467200-1772479800@warringaharchers.com.au
SUMMARY:Warringah Archers: Melbourne/Darwin/Geelong/Newcastle
DESCRIPTION:90 arrows @ 50m/40m/30m/20m (122cm face) practise for Women’s Day Tournament
URL:https://warringaharchers.com.au/event/warringah-archers-melbourne-darwin-geelong-newcastle-2/
LOCATION:Warringah Archers\, 12 Inman Rd\, Cromer NSW 2099\, Australia\, 12 Inman Rd\, Cromer\, NSW\, 2099\, Australia
CATEGORIES:Club Shoots
END:VEVENT
BEGIN:VEVENT
DTSTART;TZID=Australia/Sydney:20260301T083000
DTEND;TZID=Australia/Sydney:20260301T120000
DTSTAMP:20260422T191254
CREATED:20251219T182050Z
LAST-MODIFIED:20251221T183557Z
UID:10000185-1772353800-1772366400@warringaharchers.com.au
SUMMARY:Warringah Archers: Canberra / Short Canberra / Junior Canberra or The Nuggets (U12
DESCRIPTION:Ground Crew: Gregg & Jerry Barr-Jones / Michael Lintzer\n36 arrows @ 60m/50m/40m or 50m/40m/30m\, or 40m/30m/20m or 30m/20m/10m (122cm face) or 26 arrows @ 10m/5m on 80cm face – practise for Coast Archers Youth event being held in March
URL:https://warringaharchers.com.au/event/warringah-archers-canberra-short-canberra-junior-canberra-or-the-nuggets-u12/
LOCATION:Warringah Archers\, 12 Inman Rd\, Cromer NSW 2099\, Australia\, 12 Inman Rd\, Cromer\, NSW\, 2099\, Australia
CATEGORIES:Club Shoots
END:VEVENT
BEGIN:VEVENT
DTSTART;TZID=Australia/Sydney:20260228T090000
DTEND;TZID=Australia/Sydney:20260228T110000
DTSTAMP:20260422T191254
CREATED:20251205T232140Z
LAST-MODIFIED:20260119T013739Z
UID:10000113-1772269200-1772276400@warringaharchers.com.au
SUMMARY:Come N Try Archery: Noel Billyard
DESCRIPTION:With Coach: Noel Billyard \nOur Come N Try sessions are designed for beginners with no prior experience. Over a relaxed two-hour session\, you’ll be introduced to the basics of target archery by experienced club instructors\, with all equipment provided. You’ll learn safe shooting technique\, range etiquette\, and have plenty of time on the line to shoot arrows and build confidence. \nThese sessions are suitable for adults and juniors (from age 6)\, with small group sizes to ensure proper supervision and instruction. Closed footwear is required\, and we recommend comfortable clothing suitable for outdoor conditions. If you’ve ever been curious about archery\, this is the simplest and safest way to give it a go.
URL:https://warringaharchers.com.au/event/come-n-try-archery-noel-billyard-2/
LOCATION:Warringah Archers\, 12 Inman Rd\, Cromer NSW 2099\, Australia\, 12 Inman Rd\, Cromer\, NSW\, 2099\, Australia
CATEGORIES:Come N Try
ATTACH;FMTTYPE=image/png:https://warringaharchers.com.au/wp-content/uploads/2025/10/come_n_try_cartoon-e1765850994265.png
ORGANIZER;CN="Warringah Archers":MAILTO:info@warringaharchers.com.au
END:VEVENT
BEGIN:VEVENT
DTSTART;TZID=Australia/Sydney:20260228T083000
DTEND;TZID=Australia/Sydney:20260228T120000
DTSTAMP:20260422T191254
CREATED:20251219T182050Z
LAST-MODIFIED:20251221T183557Z
UID:10000184-1772267400-1772280000@warringaharchers.com.au
SUMMARY:Warringah Archers: Canberra / Short Canberra / Junior Canberra or Grinrod Special (U12
DESCRIPTION:Ground Crew: van der Watt Family\n36 arrows @ 60m/50m/40m or 50m/40m/30m\, or 40m/30m/20m or 30m/20m/10m (122cm face) or 26 arrows @ 10m/5m on 80cm face – Practise for Coast Archers Youth event in March
URL:https://warringaharchers.com.au/event/warringah-archers-canberra-short-canberra-junior-canberra-or-grinrod-special-u12/
LOCATION:Warringah Archers\, 12 Inman Rd\, Cromer NSW 2099\, Australia\, 12 Inman Rd\, Cromer\, NSW\, 2099\, Australia
CATEGORIES:Club Shoots
END:VEVENT
END:VCALENDAR