BEGIN:VCALENDAR
VERSION:2.0
PRODID:-//Warringah Archers - ECPv6.15.20//NONSGML v1.0//EN
CALSCALE:GREGORIAN
METHOD:PUBLISH
X-ORIGINAL-URL:https://warringaharchers.com.au
X-WR-CALDESC:Events for Warringah Archers
REFRESH-INTERVAL;VALUE=DURATION:PT1H
X-Robots-Tag:noindex
X-PUBLISHED-TTL:PT1H
BEGIN:VTIMEZONE
TZID:Australia/Sydney
BEGIN:STANDARD
TZOFFSETFROM:+1100
TZOFFSETTO:+1000
TZNAME:AEST
DTSTART:20250405T160000
END:STANDARD
BEGIN:DAYLIGHT
TZOFFSETFROM:+1000
TZOFFSETTO:+1100
TZNAME:AEDT
DTSTART:20251004T160000
END:DAYLIGHT
BEGIN:STANDARD
TZOFFSETFROM:+1100
TZOFFSETTO:+1000
TZNAME:AEST
DTSTART:20260404T160000
END:STANDARD
BEGIN:DAYLIGHT
TZOFFSETFROM:+1000
TZOFFSETTO:+1100
TZNAME:AEDT
DTSTART:20261003T160000
END:DAYLIGHT
BEGIN:STANDARD
TZOFFSETFROM:+1100
TZOFFSETTO:+1000
TZNAME:AEST
DTSTART:20270403T160000
END:STANDARD
BEGIN:DAYLIGHT
TZOFFSETFROM:+1000
TZOFFSETTO:+1100
TZNAME:AEDT
DTSTART:20271002T160000
END:DAYLIGHT
END:VTIMEZONE
BEGIN:VEVENT
DTSTART;TZID=Australia/Sydney:20260425T090000
DTEND;TZID=Australia/Sydney:20260425T110000
DTSTAMP:20260422T051047
CREATED:20260119T013556Z
LAST-MODIFIED:20260119T015437Z
UID:10000298-1777107600-1777114800@warringaharchers.com.au
SUMMARY:Come N Try Archery: Elizabeth Jennison
DESCRIPTION:Our Come N Try sessions are designed for beginners with no prior experience. Over a relaxed two-hour session\, you’ll be introduced to the basics of target archery by experienced club instructors\, with all equipment provided. You’ll learn safe shooting technique\, range etiquette\, and have plenty of time on the line to shoot arrows and build confidence. \nThese sessions are suitable for adults and juniors (from age 6)\, with small group sizes to ensure proper supervision and instruction. Closed footwear is required\, and we recommend comfortable clothing suitable for outdoor conditions. If you’ve ever been curious about archery\, this is the simplest and safest way to give it a go. \nWith Coach: Elizabeth Jennison
URL:https://warringaharchers.com.au/event/come-n-try-archery-elizabeth-jennison/
LOCATION:Warringah Archers\, 12 Inman Rd\, Cromer NSW 2099\, Australia\, 12 Inman Rd\, Cromer\, NSW\, 2099\, Australia
CATEGORIES:Come N Try
ATTACH;FMTTYPE=image/png:https://warringaharchers.com.au/wp-content/uploads/2025/10/come_n_try_cartoon-e1765850994265.png
END:VEVENT
BEGIN:VEVENT
DTSTART;TZID=Australia/Sydney:20260510T090000
DTEND;TZID=Australia/Sydney:20260510T110000
DTSTAMP:20260422T051047
CREATED:20260309T124625Z
LAST-MODIFIED:20260414T022317Z
UID:10000351-1778403600-1778410800@warringaharchers.com.au
SUMMARY:Come N Try: Mothers Day Bash - With Coaches Elizabeth & Ben
DESCRIPTION:Looking for a special Mother’s Day gift that’s a little different this year? \nWhy not join us for the Warringah Archers Mother’s Day Bash and bring the whole family along. Spend the morning outdoors trying something new together as you learn the basics of target archery with the help of our friendly club coaches. \nOur Come ‘N’ Try session is designed for beginners\, with no experience required. All equipment is provided\, and we’ll guide you through safe shooting techniques so everyone can enjoy the experience – whether you’re cheering Mum on or stepping up to the shooting line yourself. \nMake it a memorable way to celebrate Mother’s Day: \n\nTry archery together\nEnjoy a relaxed morning outdoors\nPerfect for families\n\nOnly 20 spots are available\, so bookings are essential. \nGive Mum a Mother’s Day she won’t forget with Coaches: Elizabeth Jennison & Ben Mauger
URL:https://warringaharchers.com.au/event/come-n-try-mothers-day-bash-coaches-elizabeth-ben/
LOCATION:Warringah Archers\, 12 Inman Rd\, Cromer NSW 2099\, Australia\, 12 Inman Rd\, Cromer\, NSW\, 2099\, Australia
CATEGORIES:Come N Try
ATTACH;FMTTYPE=image/jpeg:https://warringaharchers.com.au/wp-content/uploads/2026/03/mothers_day_bash.jpg
ORGANIZER;CN="Warringah Archers":MAILTO:info@warringaharchers.com.au
END:VEVENT
BEGIN:VEVENT
DTSTART;TZID=Australia/Sydney:20260524T090000
DTEND;TZID=Australia/Sydney:20260524T110000
DTSTAMP:20260422T051047
CREATED:20260309T124625Z
LAST-MODIFIED:20260310T095705Z
UID:10000352-1779613200-1779620400@warringaharchers.com.au
SUMMARY:Come N Try Archery: Ben Mauger
DESCRIPTION:Our Come N Try sessions are designed for beginners with no prior experience. Over a relaxed two-hour session\, you’ll be introduced to the basics of target archery by experienced club instructors\, with all equipment provided. You’ll learn safe shooting technique\, range etiquette\, and have plenty of time on the line to shoot arrows and build confidence. \nThese sessions are suitable for adults and juniors (from age 6)\, with small group sizes to ensure proper supervision and instruction. Closed footwear is required\, and we recommend comfortable clothing suitable for outdoor conditions. If you’ve ever been curious about archery\, this is the simplest and safest way to give it a go. \nWith Coach: Ben Mauger
URL:https://warringaharchers.com.au/event/come-n-try-archery-ben-mauger-3/
LOCATION:Warringah Archers\, 12 Inman Rd\, Cromer NSW 2099\, Australia\, 12 Inman Rd\, Cromer\, NSW\, 2099\, Australia
CATEGORIES:Come N Try
ATTACH;FMTTYPE=image/jpeg:https://warringaharchers.com.au/wp-content/uploads/2026/03/come_n_try.jpg
ORGANIZER;CN="Warringah Archers":MAILTO:info@warringaharchers.com.au
END:VEVENT
BEGIN:VEVENT
DTSTART;TZID=Australia/Sydney:20260607T090000
DTEND;TZID=Australia/Sydney:20260607T110000
DTSTAMP:20260422T051047
CREATED:20260412T140412Z
LAST-MODIFIED:20260413T102758Z
UID:10000355-1780822800-1780830000@warringaharchers.com.au
SUMMARY:Come N Try Archery: Ben Mauger
DESCRIPTION:Our Come N Try sessions are designed for beginners with no prior experience. Over a relaxed two-hour session\, you’ll be introduced to the basics of target archery by experienced club instructors\, with all equipment provided. You’ll learn safe shooting technique\, range etiquette\, and have plenty of time on the line to shoot arrows and build confidence. \nThese sessions are suitable for adults and juniors (from age 6)\, with small group sizes to ensure proper supervision and instruction. Closed footwear is required\, and we recommend comfortable clothing suitable for outdoor conditions. If you’ve ever been curious about archery\, this is the simplest and safest way to give it a go. \nWith Coach: Ben Mauger
URL:https://warringaharchers.com.au/event/come-n-try-archery-ben-mauger-4/
LOCATION:Warringah Archers\, 12 Inman Rd\, Cromer NSW 2099\, Australia\, 12 Inman Rd\, Cromer\, NSW\, 2099\, Australia
CATEGORIES:Come N Try
ATTACH;FMTTYPE=image/jpeg:https://warringaharchers.com.au/wp-content/uploads/2026/04/come_n_try_kings_birthday.jpg
END:VEVENT
BEGIN:VEVENT
DTSTART;TZID=Australia/Sydney:20260620T090000
DTEND;TZID=Australia/Sydney:20260620T110000
DTSTAMP:20260422T051047
CREATED:20260412T140413Z
LAST-MODIFIED:20260413T104028Z
UID:10000356-1781946000-1781953200@warringaharchers.com.au
SUMMARY:Come N Try Archery: Elizabeth Jennison
DESCRIPTION:Our Come N Try sessions are designed for beginners with no prior experience. Over a relaxed two-hour session\, you’ll be introduced to the basics of target archery by experienced club instructors\, with all equipment provided. You’ll learn safe shooting technique\, range etiquette\, and have plenty of time on the line to shoot arrows and build confidence. \nThese sessions are suitable for adults and juniors (from age 6)\, with small group sizes to ensure proper supervision and instruction. Closed footwear is required\, and we recommend comfortable clothing suitable for outdoor conditions. If you’ve ever been curious about archery\, this is the simplest and safest way to give it a go. \nWith Coach: Elizabeth Jennison
URL:https://warringaharchers.com.au/event/come-n-try-archery-elizabeth-jennison-4/
LOCATION:Warringah Archers\, 12 Inman Rd\, Cromer NSW 2099\, Australia\, 12 Inman Rd\, Cromer\, NSW\, 2099\, Australia
CATEGORIES:Come N Try
ATTACH;FMTTYPE=image/jpeg:https://warringaharchers.com.au/wp-content/uploads/2026/03/come_n_try.jpg
END:VEVENT
BEGIN:VEVENT
DTSTART;TZID=Australia/Sydney:20260704T090000
DTEND;TZID=Australia/Sydney:20260704T120000
DTSTAMP:20260422T051047
CREATED:20260413T053414Z
LAST-MODIFIED:20260413T235210Z
UID:10000357-1783155600-1783166400@warringaharchers.com.au
SUMMARY:Beginner Course: Stirling - Week 1
DESCRIPTION:Beginner Course: With Coach Stirling\nWeek 1\nBeginner Archery Course (3-4 Weeks)\nWarringah Archers’ Beginner Course is a structured progression from introductory shooting to consistent\, independent practice. The course runs over three or four weekly sessions\, each lasting two hours\, and is designed for those who have completed at least one Come N Try session or have equivalent exposure to archery basics. \nAcross the course\, you’ll cover range safety\, equipment handling\, warm-up and cool-down routines\, and the fundamentals of target archery. Instruction focuses on building a repeatable shot process\, including stance\, bow hand\, draw\, anchor\, aim\, release\, and follow-through\, along with practical skills such as target set-up\, arrow selection\, and basic equipment care. \nAn optional fourth session provides the opportunity to shoot alongside club members under normal club conditions. This session runs at a different time\, and details are provided during the course. On completion\, participants will have the knowledge required to select and maintain basic equipment\, understand scoring\, and continue shooting safely and confidently at club level.
URL:https://warringaharchers.com.au/event/beginner-course-stirling-5/
LOCATION:Warringah Archers\, 12 Inman Rd\, Cromer NSW 2099\, Australia\, 12 Inman Rd\, Cromer\, NSW\, 2099\, Australia
CATEGORIES:Beginner Courses
ATTACH;FMTTYPE=image/jpeg:https://warringaharchers.com.au/wp-content/uploads/2026/01/beginners_course_fb.jpg
ORGANIZER;CN="Warringah Archers":MAILTO:info@warringaharchers.com.au
END:VEVENT
BEGIN:VEVENT
DTSTART;TZID=Australia/Sydney:20260725T090000
DTEND;TZID=Australia/Sydney:20260725T120000
DTSTAMP:20260422T051047
CREATED:20260413T053414Z
LAST-MODIFIED:20260414T000451Z
UID:10000360-1784970000-1784980800@warringaharchers.com.au
SUMMARY:Beginner Course: Stirling - Week 4
DESCRIPTION:Beginner Course: With Coach Stirling\nWeek 4 (if required)\nBeginner Archery Course (3-4 Weeks)\nWarringah Archers’ Beginner Course is a structured progression from introductory shooting to consistent\, independent practice. The course runs over three or four weekly sessions\, each lasting two hours\, and is designed for those who have completed at least one Come N Try session or have equivalent exposure to archery basics. \nAcross the course\, you’ll cover range safety\, equipment handling\, warm-up and cool-down routines\, and the fundamentals of target archery. Instruction focuses on building a repeatable shot process\, including stance\, bow hand\, draw\, anchor\, aim\, release\, and follow-through\, along with practical skills such as target set-up\, arrow selection\, and basic equipment care. \nAn optional fourth session provides the opportunity to shoot alongside club members under normal club conditions. This session runs at a different time\, and details are provided during the course. On completion\, participants will have the knowledge required to select and maintain basic equipment\, understand scoring\, and continue shooting safely and confidently at club level.
URL:https://warringaharchers.com.au/event/beginner-course-stirling-8/
LOCATION:Warringah Archers\, 12 Inman Rd\, Cromer NSW 2099\, Australia\, 12 Inman Rd\, Cromer\, NSW\, 2099\, Australia
CATEGORIES:Beginner Courses
ATTACH;FMTTYPE=image/jpeg:https://warringaharchers.com.au/wp-content/uploads/2026/01/beginners_course_fb.jpg
END:VEVENT
END:VCALENDAR