BEGIN:VCALENDAR
VERSION:2.0
PRODID:-//Warringah Archers - ECPv6.15.20//NONSGML v1.0//EN
CALSCALE:GREGORIAN
METHOD:PUBLISH
X-WR-CALNAME:Warringah Archers
X-ORIGINAL-URL:https://warringaharchers.com.au
X-WR-CALDESC:Events for Warringah Archers
REFRESH-INTERVAL;VALUE=DURATION:PT1H
X-Robots-Tag:noindex
X-PUBLISHED-TTL:PT1H
BEGIN:VTIMEZONE
TZID:Australia/Sydney
BEGIN:STANDARD
TZOFFSETFROM:+1100
TZOFFSETTO:+1000
TZNAME:AEST
DTSTART:20250405T160000
END:STANDARD
BEGIN:DAYLIGHT
TZOFFSETFROM:+1000
TZOFFSETTO:+1100
TZNAME:AEDT
DTSTART:20251004T160000
END:DAYLIGHT
BEGIN:STANDARD
TZOFFSETFROM:+1100
TZOFFSETTO:+1000
TZNAME:AEST
DTSTART:20260404T160000
END:STANDARD
BEGIN:DAYLIGHT
TZOFFSETFROM:+1000
TZOFFSETTO:+1100
TZNAME:AEDT
DTSTART:20261003T160000
END:DAYLIGHT
BEGIN:STANDARD
TZOFFSETFROM:+1100
TZOFFSETTO:+1000
TZNAME:AEST
DTSTART:20270403T160000
END:STANDARD
BEGIN:DAYLIGHT
TZOFFSETFROM:+1000
TZOFFSETTO:+1100
TZNAME:AEDT
DTSTART:20271002T160000
END:DAYLIGHT
END:VTIMEZONE
BEGIN:VEVENT
DTSTART;TZID=Australia/Sydney:20260906T090000
DTEND;TZID=Australia/Sydney:20260906T110000
DTSTAMP:20260422T080615
CREATED:20260419T051715Z
LAST-MODIFIED:20260419T071930Z
UID:10000409-1788685200-1788692400@warringaharchers.com.au
SUMMARY:AdBow/KidBow Program - Final Tournament
DESCRIPTION:AdBow & KidBow Final Tournament with Coaches: Chris Young & Elizabeth Jennison\nRound: Shrinking Page 6 ends @ 10m 122cm face\, 4 ends on 80cm face\, 3 ends on 60cm face & 2 ends on 40cm face. \nThe AdBow & KidBow Program is designed to introduce young archers to the fundamentals of target archery in a safe\, structured\, and supportive environment. The program focuses on building correct technique\, confidence\, and enjoyment through age-appropriate equipment and progressive instruction. \nSessions are led by accredited club coaches and cover essential skills including range safety\, basic shooting form\, aiming\, and follow-through. Emphasis is placed on good habits\, consistency\, and having fun\, rather than competition or performance outcomes. \nAll equipment is provided\, and no prior archery experience is required. The program is suitable for children who are new to archery or looking to develop foundational skills as a pathway into club shooting and future junior programs.
URL:https://warringaharchers.com.au/event/adbow-kidbow-program-final-tournament/
LOCATION:Warringah Archers\, 12 Inman Rd\, Cromer NSW 2099\, Australia\, 12 Inman Rd\, Cromer\, NSW\, 2099\, Australia
CATEGORIES:AdBow & KidBow
ATTACH;FMTTYPE=image/jpeg:https://warringaharchers.com.au/wp-content/uploads/2026/04/adbow_kidbow_header.jpg
ORGANIZER;CN="Warringah Archers":MAILTO:info@warringaharchers.com.au
END:VEVENT
END:VCALENDAR