BEGIN:VCALENDAR
VERSION:2.0
PRODID:-//Warringah Archers - ECPv6.15.20//NONSGML v1.0//EN
CALSCALE:GREGORIAN
METHOD:PUBLISH
X-WR-CALNAME:Warringah Archers
X-ORIGINAL-URL:https://warringaharchers.com.au
X-WR-CALDESC:Events for Warringah Archers
REFRESH-INTERVAL;VALUE=DURATION:PT1H
X-Robots-Tag:noindex
X-PUBLISHED-TTL:PT1H
BEGIN:VTIMEZONE
TZID:Australia/Sydney
BEGIN:STANDARD
TZOFFSETFROM:+1100
TZOFFSETTO:+1000
TZNAME:AEST
DTSTART:20250405T160000
END:STANDARD
BEGIN:DAYLIGHT
TZOFFSETFROM:+1000
TZOFFSETTO:+1100
TZNAME:AEDT
DTSTART:20251004T160000
END:DAYLIGHT
BEGIN:STANDARD
TZOFFSETFROM:+1100
TZOFFSETTO:+1000
TZNAME:AEST
DTSTART:20260404T160000
END:STANDARD
BEGIN:DAYLIGHT
TZOFFSETFROM:+1000
TZOFFSETTO:+1100
TZNAME:AEDT
DTSTART:20261003T160000
END:DAYLIGHT
BEGIN:STANDARD
TZOFFSETFROM:+1100
TZOFFSETTO:+1000
TZNAME:AEST
DTSTART:20270403T160000
END:STANDARD
BEGIN:DAYLIGHT
TZOFFSETFROM:+1000
TZOFFSETTO:+1100
TZNAME:AEDT
DTSTART:20271002T160000
END:DAYLIGHT
END:VTIMEZONE
BEGIN:VEVENT
DTSTART;VALUE=DATE:20260607
DTEND;VALUE=DATE:20260609
DTSTAMP:20260423T075333
CREATED:20251223T074109Z
LAST-MODIFIED:20251223T074109Z
UID:10000243-1780826400-1780912799@warringaharchers.com.au
SUMMARY:Inter-Varsity Archery Championships - SOPA
DESCRIPTION:
URL:https://warringaharchers.com.au/event/inter-varsity-archery-championships-sopa/
LOCATION:NSW
CATEGORIES:Archery NSW
END:VEVENT
BEGIN:VEVENT
DTSTART;TZID=Australia/Sydney:20260608T080000
DTEND;TZID=Australia/Sydney:20260608T190000
DTSTAMP:20260423T075333
CREATED:20260415T103423Z
LAST-MODIFIED:20260415T103423Z
UID:10000384-1780905600-1780945200@warringaharchers.com.au
SUMMARY:Australian Indoor 1 & 2 Combined AM Ranking Rounds PM (from onwards)
DESCRIPTION:AM: 30 arrows @ 25m on 60cm face\, 30 arrows @ 18m on 40cm face or PM: Ranking round dependant on age group
URL:https://warringaharchers.com.au/event/australian-indoor-1-2-combined-am-ranking-rounds-pm-from-onwards/
LOCATION:NSW
CATEGORIES:Club Shoots
END:VEVENT
BEGIN:VEVENT
DTSTART;VALUE=DATE:20260609
DTEND;VALUE=DATE:20260616
DTSTAMP:20260423T075333
CREATED:20251223T074109Z
LAST-MODIFIED:20251223T074109Z
UID:10000246-1780999200-1781517599@warringaharchers.com.au
SUMMARY:Hyundai Archery WC3 - Antalya\, Turkey (International)
DESCRIPTION:
URL:https://warringaharchers.com.au/event/hyundai-archery-wc3-antalya-turkey-international/
LOCATION:NSW
CATEGORIES:Archery NSW
END:VEVENT
BEGIN:VEVENT
DTSTART;TZID=Australia/Sydney:20260610T160000
DTEND;TZID=Australia/Sydney:20260610T192000
DTSTAMP:20260423T075333
CREATED:20260415T103423Z
LAST-MODIFIED:20260415T103423Z
UID:10000385-1781107200-1781119200@warringaharchers.com.au
SUMMARY:WA Indoor 1 or Pound Stirling (U12)
DESCRIPTION:60 arrows @ 18m 40cm face or 80m on 80cm face
URL:https://warringaharchers.com.au/event/wa-indoor-1-or-pound-stirling-u12-3/
LOCATION:NSW
CATEGORIES:Club Shoots
END:VEVENT
BEGIN:VEVENT
DTSTART;VALUE=DATE:20260611
DTEND;VALUE=DATE:20260613
DTSTAMP:20260423T075333
CREATED:20260204T092429Z
LAST-MODIFIED:20260204T092429Z
UID:10000323-1781172000-1781258399@warringaharchers.com.au
SUMMARY:WA Indoor 18m QRE - Penrith City Archers
DESCRIPTION:
URL:https://warringaharchers.com.au/event/wa-indoor-18m-qre-penrith-city-archers-6/
LOCATION:NSW
CATEGORIES:Archery NSW
END:VEVENT
BEGIN:VEVENT
DTSTART;TZID=Australia/Sydney:20260613T090000
DTEND;TZID=Australia/Sydney:20260613T120000
DTSTAMP:20260423T075333
CREATED:20260415T103423Z
LAST-MODIFIED:20260415T103423Z
UID:10000386-1781341200-1781352000@warringaharchers.com.au
SUMMARY:Warringah Handicap Shoot (Northern Beaches to Coast Challenge)
DESCRIPTION:Ground Crew: Richard May / Lucette Rutherford\nClub Round: Open 50/40/30*/18#\, Junior 40/30/20*18#\, Mini 20/15/10*/10#
URL:https://warringaharchers.com.au/event/warringah-handicap-shoot-northern-beaches-to-coast-challenge/
LOCATION:Warringah Archers\, 12 Inman Rd\, Cromer NSW 2099\, Australia\, 12 Inman Rd\, Cromer\, NSW\, 2099\, Australia
CATEGORIES:Club Shoots
END:VEVENT
BEGIN:VEVENT
DTSTART;VALUE=DATE:20260613
DTEND;VALUE=DATE:20260615
DTSTAMP:20260423T075333
CREATED:20251223T074109Z
LAST-MODIFIED:20251223T074109Z
UID:10000245-1781344800-1781431199@warringaharchers.com.au
SUMMARY:Youth Hawkeye -Penrith
DESCRIPTION:
URL:https://warringaharchers.com.au/event/youth-hawkeye-penrith/
LOCATION:NSW
CATEGORIES:Archery NSW
END:VEVENT
BEGIN:VEVENT
DTSTART;TZID=Australia/Sydney:20260614T090000
DTEND;TZID=Australia/Sydney:20260614T110000
DTSTAMP:20260423T075333
CREATED:20260419T051714Z
LAST-MODIFIED:20260419T074525Z
UID:10000397-1781427600-1781434800@warringaharchers.com.au
SUMMARY:AdBow/KidBow Program - Week 1
DESCRIPTION:AdBow & KidBow Program with Coaches: Chris Young & Elizabeth Jennison\nThe AdBow & KidBow Program is designed to introduce young archers to the fundamentals of target archery in a safe\, structured\, and supportive environment. The program focuses on building correct technique\, confidence\, and enjoyment through age-appropriate equipment and progressive instruction. \nSessions are led by accredited club coaches and cover essential skills including range safety\, basic shooting form\, aiming\, and follow-through. Emphasis is placed on good habits\, consistency\, and having fun\, rather than competition or performance outcomes. \nAll equipment is provided\, and no prior archery experience is required. The program is suitable for children who are new to archery or looking to develop foundational skills as a pathway into club shooting and future junior programs.
URL:https://warringaharchers.com.au/event/adbow-kidbow-program-13/
LOCATION:Warringah Archers\, 12 Inman Rd\, Cromer NSW 2099\, Australia\, 12 Inman Rd\, Cromer\, NSW\, 2099\, Australia
CATEGORIES:AdBow & KidBow
ATTACH;FMTTYPE=image/jpeg:https://warringaharchers.com.au/wp-content/uploads/2026/04/adbow_kidbow_header.jpg
ORGANIZER;CN="Warringah Archers":MAILTO:info@warringaharchers.com.au
END:VEVENT
BEGIN:VEVENT
DTSTART;TZID=Australia/Sydney:20260614T090000
DTEND;TZID=Australia/Sydney:20260614T163000
DTSTAMP:20260423T075333
CREATED:20260415T103423Z
LAST-MODIFIED:20260415T103423Z
UID:10000387-1781427600-1781454600@warringaharchers.com.au
SUMMARY:"Holt / Drake / Jodie Joker "
DESCRIPTION:Ground Crew: Craig Gibbons / Hayley Ng\nClub Round: 90 arrows @ 50m or 30m\, or 20m (80cm face)
URL:https://warringaharchers.com.au/event/holt-drake-jodie-joker/
LOCATION:Warringah Archers\, 12 Inman Rd\, Cromer NSW 2099\, Australia\, 12 Inman Rd\, Cromer\, NSW\, 2099\, Australia
CATEGORIES:Club Shoots
END:VEVENT
BEGIN:VEVENT
DTSTART;VALUE=DATE:20260614
DTEND;VALUE=DATE:20260616
DTSTAMP:20260423T075333
CREATED:20251223T074109Z
LAST-MODIFIED:20251223T074109Z
UID:10000247-1781431200-1781517599@warringaharchers.com.au
SUMMARY:SOPA CUP #6
DESCRIPTION:
URL:https://warringaharchers.com.au/event/sopa-cup-6/
LOCATION:NSW
CATEGORIES:Archery NSW
END:VEVENT
BEGIN:VEVENT
DTSTART;TZID=Australia/Sydney:20260615T160000
DTEND;TZID=Australia/Sydney:20260615T192000
DTSTAMP:20260423T075333
CREATED:20260415T103423Z
LAST-MODIFIED:20260415T103423Z
UID:10000388-1781539200-1781551200@warringaharchers.com.au
SUMMARY:Double Aust Indoor 1
DESCRIPTION:Club Round:  \n\n\n \n\n\n2 x 30  arrows @ 18m 40cm face
URL:https://warringaharchers.com.au/event/double-aust-indoor-1/
LOCATION:NSW
CATEGORIES:Club Shoots
END:VEVENT
BEGIN:VEVENT
DTSTART;TZID=Australia/Sydney:20260617T160000
DTEND;TZID=Australia/Sydney:20260617T192000
DTSTAMP:20260423T075333
CREATED:20260415T103423Z
LAST-MODIFIED:20260415T103423Z
UID:10000389-1781712000-1781724000@warringaharchers.com.au
SUMMARY:WA Indoor 1
DESCRIPTION:60  arrows @ 18m 40cm face
URL:https://warringaharchers.com.au/event/wa-indoor-1-2/
LOCATION:NSW
CATEGORIES:Club Shoots
END:VEVENT
BEGIN:VEVENT
DTSTART;VALUE=DATE:20260620
DTEND;VALUE=DATE:20260621
DTSTAMP:20260423T075333
CREATED:20260415T103423Z
LAST-MODIFIED:20260415T103423Z
UID:10000390-1781913600-1781999999@warringaharchers.com.au
SUMMARY:Launceston/Sarah Lee/Peter Pan
DESCRIPTION:Ground Crew: Kane Wilson / Monica CamilleriClub Round: 36 arrows @  50/30 (80cm) or 25/20m (122cm face) or 15/20 (80cm face-New members only)
URL:https://warringaharchers.com.au/event/launceston-sarah-lee-peter-pan/
LOCATION:NSW
CATEGORIES:Club Shoots
END:VEVENT
BEGIN:VEVENT
DTSTART;TZID=Australia/Sydney:20260620T090000
DTEND;TZID=Australia/Sydney:20260620T110000
DTSTAMP:20260423T075333
CREATED:20260412T064931Z
LAST-MODIFIED:20260412T064931Z
UID:10000354-1781946000-1781953200@warringaharchers.com.au
SUMMARY:Bow Tuning (Peter & Kane)
DESCRIPTION:Bow Tuning session.  Members attending this can shoot the round\, will go for approximately 2 hours.
URL:https://warringaharchers.com.au/event/bow-tuning-peter-kane/
LOCATION:Warringah Archers\, 12 Inman Rd\, Cromer NSW 2099\, Australia\, 12 Inman Rd\, Cromer\, NSW\, 2099\, Australia
CATEGORIES:Club Events
END:VEVENT
BEGIN:VEVENT
DTSTART;TZID=Australia/Sydney:20260620T090000
DTEND;TZID=Australia/Sydney:20260620T110000
DTSTAMP:20260423T075333
CREATED:20260412T140413Z
LAST-MODIFIED:20260413T104028Z
UID:10000356-1781946000-1781953200@warringaharchers.com.au
SUMMARY:Come N Try Archery: Elizabeth Jennison
DESCRIPTION:Our Come N Try sessions are designed for beginners with no prior experience. Over a relaxed two-hour session\, you’ll be introduced to the basics of target archery by experienced club instructors\, with all equipment provided. You’ll learn safe shooting technique\, range etiquette\, and have plenty of time on the line to shoot arrows and build confidence. \nThese sessions are suitable for adults and juniors (from age 6)\, with small group sizes to ensure proper supervision and instruction. Closed footwear is required\, and we recommend comfortable clothing suitable for outdoor conditions. If you’ve ever been curious about archery\, this is the simplest and safest way to give it a go. \nWith Coach: Elizabeth Jennison
URL:https://warringaharchers.com.au/event/come-n-try-archery-elizabeth-jennison-4/
LOCATION:Warringah Archers\, 12 Inman Rd\, Cromer NSW 2099\, Australia\, 12 Inman Rd\, Cromer\, NSW\, 2099\, Australia
CATEGORIES:Come N Try
ATTACH;FMTTYPE=image/jpeg:https://warringaharchers.com.au/wp-content/uploads/2026/03/come_n_try.jpg
END:VEVENT
BEGIN:VEVENT
DTSTART;VALUE=DATE:20260620
DTEND;VALUE=DATE:20260623
DTSTAMP:20260423T075333
CREATED:20251223T074109Z
LAST-MODIFIED:20251223T074109Z
UID:10000248-1781949600-1782122399@warringaharchers.com.au
SUMMARY:PCA Golden Arrow - Penrith
DESCRIPTION:
URL:https://warringaharchers.com.au/event/pca-golden-arrow-penrith/
LOCATION:NSW
CATEGORIES:Archery NSW
END:VEVENT
BEGIN:VEVENT
DTSTART;TZID=Australia/Sydney:20260621T090000
DTEND;TZID=Australia/Sydney:20260621T110000
DTSTAMP:20260423T075333
CREATED:20260419T051714Z
LAST-MODIFIED:20260419T074503Z
UID:10000398-1782032400-1782039600@warringaharchers.com.au
SUMMARY:AdBow/KidBow Program - Week 2
DESCRIPTION:AdBow & KidBow Program with Coaches: Chris Young & Elizabeth Jennison\nThe AdBow & KidBow Program is designed to introduce young archers to the fundamentals of target archery in a safe\, structured\, and supportive environment. The program focuses on building correct technique\, confidence\, and enjoyment through age-appropriate equipment and progressive instruction. \nSessions are led by accredited club coaches and cover essential skills including range safety\, basic shooting form\, aiming\, and follow-through. Emphasis is placed on good habits\, consistency\, and having fun\, rather than competition or performance outcomes. \nAll equipment is provided\, and no prior archery experience is required. The program is suitable for children who are new to archery or looking to develop foundational skills as a pathway into club shooting and future junior programs.
URL:https://warringaharchers.com.au/event/adbow-kidbow-program-14/
LOCATION:Sydney Olympic Park Archery Club\, Bennelong Pkwy\, Sydney Olympic Park NSW 2127\, Australia\, Bennelong Pkwy\, Sydney Olympic Park\, NSW\, 2127\, Australia
CATEGORIES:AdBow & KidBow
ATTACH;FMTTYPE=image/jpeg:https://warringaharchers.com.au/wp-content/uploads/2026/04/adbow_kidbow_header.jpg
ORGANIZER;CN="Warringah Archers":MAILTO:info@warringaharchers.com.au
END:VEVENT
BEGIN:VEVENT
DTSTART;TZID=Australia/Sydney:20260621T090000
DTEND;TZID=Australia/Sydney:20260621T163000
DTSTAMP:20260423T075333
CREATED:20260415T103423Z
LAST-MODIFIED:20260415T103423Z
UID:10000391-1782032400-1782059400@warringaharchers.com.au
SUMMARY:Adelaide / Short Adelaide / Mini Adelaide
DESCRIPTION:Ground Crew: Young Family\nClub Round: 30 arrows @ 60/50/40*/30* or 50/40/30*/20* or 25/20/15*/10*
URL:https://warringaharchers.com.au/event/adelaide-short-adelaide-mini-adelaide/
LOCATION:Warringah Archers\, 12 Inman Rd\, Cromer NSW 2099\, Australia\, 12 Inman Rd\, Cromer\, NSW\, 2099\, Australia
CATEGORIES:Club Shoots
END:VEVENT
BEGIN:VEVENT
DTSTART;TZID=Australia/Sydney:20260622T160000
DTEND;TZID=Australia/Sydney:20260622T190000
DTSTAMP:20260423T075333
CREATED:20260415T103423Z
LAST-MODIFIED:20260415T103423Z
UID:10000392-1782144000-1782154800@warringaharchers.com.au
SUMMARY:WA Indoor 2 or Pound Stirling
DESCRIPTION:60 arrows @ 25m 60cm face or 60 arrows @ 18m 80cm face
URL:https://warringaharchers.com.au/event/wa-indoor-2-or-pound-stirling-3/
LOCATION:Warringah Archers\, 12 Inman Rd\, Cromer NSW 2099\, Australia\, 12 Inman Rd\, Cromer\, NSW\, 2099\, Australia
CATEGORIES:Club Shoots
END:VEVENT
BEGIN:VEVENT
DTSTART;TZID=Australia/Sydney:20260624T160000
DTEND;TZID=Australia/Sydney:20260624T192000
DTSTAMP:20260423T075333
CREATED:20260415T103424Z
LAST-MODIFIED:20260415T103424Z
UID:10000393-1782316800-1782328800@warringaharchers.com.au
SUMMARY:WA Indoor 1 or Pound Stirling (U12)
DESCRIPTION:60  arrows @ 18m 40cm face or 60 arrows @ 18m 80cm face
URL:https://warringaharchers.com.au/event/wa-indoor-1-or-pound-stirling-u12-4/
LOCATION:Warringah Archers\, 12 Inman Rd\, Cromer NSW 2099\, Australia\, 12 Inman Rd\, Cromer\, NSW\, 2099\, Australia
CATEGORIES:Club Shoots
END:VEVENT
BEGIN:VEVENT
DTSTART;VALUE=DATE:20260625
DTEND;VALUE=DATE:20260627
DTSTAMP:20260423T075333
CREATED:20260204T092429Z
LAST-MODIFIED:20260204T092429Z
UID:10000324-1782381600-1782467999@warringaharchers.com.au
SUMMARY:WA Indoor 18m QRE - Penrith City Archers
DESCRIPTION:
URL:https://warringaharchers.com.au/event/wa-indoor-18m-qre-penrith-city-archers-7/
LOCATION:NSW
CATEGORIES:Archery NSW
END:VEVENT
BEGIN:VEVENT
DTSTART;TZID=Australia/Sydney:20260627T090000
DTEND;TZID=Australia/Sydney:20260627T120000
DTSTAMP:20260423T075333
CREATED:20260415T103424Z
LAST-MODIFIED:20260415T103424Z
UID:10000394-1782550800-1782561600@warringaharchers.com.au
SUMMARY:Townsville / Launceston / Lukie Last
DESCRIPTION:Ground Crew: Van der Watt Family\nClub Round: 36 arrows @ 70/60m or 50/30* or 25/20*
URL:https://warringaharchers.com.au/event/townsville-launceston-lukie-last/
LOCATION:NSW
CATEGORIES:Club Shoots
END:VEVENT
BEGIN:VEVENT
DTSTART;VALUE=DATE:20260627
DTEND;VALUE=DATE:20260629
DTSTAMP:20260423T075333
CREATED:20251223T074109Z
LAST-MODIFIED:20251223T074109Z
UID:10000249-1782554400-1782640799@warringaharchers.com.au
SUMMARY:Southern Hemisphere Clout - Penrith
DESCRIPTION:
URL:https://warringaharchers.com.au/event/southern-hemisphere-clout-penrith/
LOCATION:NSW
CATEGORIES:Archery NSW
END:VEVENT
BEGIN:VEVENT
DTSTART;TZID=Australia/Sydney:20260628T090000
DTEND;TZID=Australia/Sydney:20260628T110000
DTSTAMP:20260423T075333
CREATED:20260419T051714Z
LAST-MODIFIED:20260419T074236Z
UID:10000399-1782637200-1782644400@warringaharchers.com.au
SUMMARY:AdBow/KidBow Program - Week 3
DESCRIPTION:AdBow & KidBow Program with Coaches: Chris Young & Elizabeth Jennison\nThe AdBow & KidBow Program is designed to introduce young archers to the fundamentals of target archery in a safe\, structured\, and supportive environment. The program focuses on building correct technique\, confidence\, and enjoyment through age-appropriate equipment and progressive instruction. \nSessions are led by accredited club coaches and cover essential skills including range safety\, basic shooting form\, aiming\, and follow-through. Emphasis is placed on good habits\, consistency\, and having fun\, rather than competition or performance outcomes. \nAll equipment is provided\, and no prior archery experience is required. The program is suitable for children who are new to archery or looking to develop foundational skills as a pathway into club shooting and future junior programs.
URL:https://warringaharchers.com.au/event/adbow-kidbow-program-15/
LOCATION:Warringah Archers\, 12 Inman Rd\, Cromer NSW 2099\, Australia\, 12 Inman Rd\, Cromer\, NSW\, 2099\, Australia
CATEGORIES:AdBow & KidBow
ATTACH;FMTTYPE=image/jpeg:https://warringaharchers.com.au/wp-content/uploads/2026/04/adbow_kidbow_header.jpg
ORGANIZER;CN="Warringah Archers":MAILTO:info@warringaharchers.com.au
END:VEVENT
BEGIN:VEVENT
DTSTART;TZID=Australia/Sydney:20260628T090000
DTEND;TZID=Australia/Sydney:20260628T163000
DTSTAMP:20260423T075333
CREATED:20260415T103424Z
LAST-MODIFIED:20260415T103424Z
UID:10000395-1782637200-1782664200@warringaharchers.com.au
SUMMARY:Canberra Rounds - WA60/900\, Short Canberra\, Junior Canberra & Mini Canberra AM with Ranking Rounds PM
DESCRIPTION:Ground Crew: Ground Crew: Pisko Family\nClub Round: 30 arrows @ 60/50/40 or 50/40/30\, or 40/30/20 or 30/20/10 (122cm face)\nRanking Rounds\, dependant on age & dicipline being shot.
URL:https://warringaharchers.com.au/event/canberra-rounds-wa60-900-short-canberra-junior-canberra-mini-canberra-am-with-ranking-rounds-pm/
LOCATION:Warringah Archers\, 12 Inman Rd\, Cromer NSW 2099\, Australia\, 12 Inman Rd\, Cromer\, NSW\, 2099\, Australia
CATEGORIES:Club Shoots
END:VEVENT
BEGIN:VEVENT
DTSTART;VALUE=DATE:20260628
DTEND;VALUE=DATE:20260630
DTSTAMP:20260423T075333
CREATED:20251223T074109Z
LAST-MODIFIED:20251223T074109Z
UID:10000250-1782640800-1782727199@warringaharchers.com.au
SUMMARY:Youth Series Indoor - Penrith
DESCRIPTION:
URL:https://warringaharchers.com.au/event/youth-series-indoor-penrith/
LOCATION:NSW
CATEGORIES:Archery NSW
END:VEVENT
BEGIN:VEVENT
DTSTART;TZID=Australia/Sydney:20260629T160000
DTEND;TZID=Australia/Sydney:20260629T192000
DTSTAMP:20260423T075333
CREATED:20260415T103424Z
LAST-MODIFIED:20260415T103424Z
UID:10000396-1782748800-1782760800@warringaharchers.com.au
SUMMARY:Double Australian Indoor 1
DESCRIPTION:2 x 30  arrows @ 18m 40cm face
URL:https://warringaharchers.com.au/event/double-australian-indoor-1/
LOCATION:NSW
CATEGORIES:Club Shoots
END:VEVENT
BEGIN:VEVENT
DTSTART;TZID=Australia/Sydney:20260704T090000
DTEND;TZID=Australia/Sydney:20260704T120000
DTSTAMP:20260423T075333
CREATED:20260413T053414Z
LAST-MODIFIED:20260413T235210Z
UID:10000357-1783155600-1783166400@warringaharchers.com.au
SUMMARY:Beginner Course: Stirling - Week 1
DESCRIPTION:Beginner Course: With Coach Stirling\nWeek 1\nBeginner Archery Course (3-4 Weeks)\nWarringah Archers’ Beginner Course is a structured progression from introductory shooting to consistent\, independent practice. The course runs over three or four weekly sessions\, each lasting two hours\, and is designed for those who have completed at least one Come N Try session or have equivalent exposure to archery basics. \nAcross the course\, you’ll cover range safety\, equipment handling\, warm-up and cool-down routines\, and the fundamentals of target archery. Instruction focuses on building a repeatable shot process\, including stance\, bow hand\, draw\, anchor\, aim\, release\, and follow-through\, along with practical skills such as target set-up\, arrow selection\, and basic equipment care. \nAn optional fourth session provides the opportunity to shoot alongside club members under normal club conditions. This session runs at a different time\, and details are provided during the course. On completion\, participants will have the knowledge required to select and maintain basic equipment\, understand scoring\, and continue shooting safely and confidently at club level.
URL:https://warringaharchers.com.au/event/beginner-course-stirling-5/
LOCATION:Warringah Archers\, 12 Inman Rd\, Cromer NSW 2099\, Australia\, 12 Inman Rd\, Cromer\, NSW\, 2099\, Australia
CATEGORIES:Beginner Courses
ATTACH;FMTTYPE=image/jpeg:https://warringaharchers.com.au/wp-content/uploads/2026/01/beginners_course_fb.jpg
ORGANIZER;CN="Warringah Archers":MAILTO:info@warringaharchers.com.au
END:VEVENT
BEGIN:VEVENT
DTSTART;VALUE=DATE:20260704
DTEND;VALUE=DATE:20260706
DTSTAMP:20260423T075333
CREATED:20251223T074109Z
LAST-MODIFIED:20251223T074109Z
UID:10000252-1783159200-1783245599@warringaharchers.com.au
SUMMARY:State Clout Championships - TBA
DESCRIPTION:
URL:https://warringaharchers.com.au/event/state-clout-championships-tba/
LOCATION:NSW
CATEGORIES:Archery NSW
END:VEVENT
BEGIN:VEVENT
DTSTART;TZID=Australia/Sydney:20260705T090000
DTEND;TZID=Australia/Sydney:20260705T110000
DTSTAMP:20260423T075333
CREATED:20260419T051714Z
LAST-MODIFIED:20260419T074058Z
UID:10000400-1783242000-1783249200@warringaharchers.com.au
SUMMARY:AdBow/KidBow Program - Week 4
DESCRIPTION:AdBow & KidBow Program with Coaches: Chris Young & Elizabeth Jennison\nThe AdBow & KidBow Program is designed to introduce young archers to the fundamentals of target archery in a safe\, structured\, and supportive environment. The program focuses on building correct technique\, confidence\, and enjoyment through age-appropriate equipment and progressive instruction. \nSessions are led by accredited club coaches and cover essential skills including range safety\, basic shooting form\, aiming\, and follow-through. Emphasis is placed on good habits\, consistency\, and having fun\, rather than competition or performance outcomes. \nAll equipment is provided\, and no prior archery experience is required. The program is suitable for children who are new to archery or looking to develop foundational skills as a pathway into club shooting and future junior programs.
URL:https://warringaharchers.com.au/event/adbow-kidbow-program-16/
LOCATION:Warringah Archers\, 12 Inman Rd\, Cromer NSW 2099\, Australia\, 12 Inman Rd\, Cromer\, NSW\, 2099\, Australia
CATEGORIES:AdBow & KidBow
ATTACH;FMTTYPE=image/jpeg:https://warringaharchers.com.au/wp-content/uploads/2026/04/adbow_kidbow_header.jpg
ORGANIZER;CN="Warringah Archers":MAILTO:info@warringaharchers.com.au
END:VEVENT
END:VCALENDAR