BEGIN:VCALENDAR
VERSION:2.0
PRODID:-//Warringah Archers - ECPv6.15.20//NONSGML v1.0//EN
CALSCALE:GREGORIAN
METHOD:PUBLISH
X-WR-CALNAME:Warringah Archers
X-ORIGINAL-URL:https://warringaharchers.com.au
X-WR-CALDESC:Events for Warringah Archers
REFRESH-INTERVAL;VALUE=DURATION:PT1H
X-Robots-Tag:noindex
X-PUBLISHED-TTL:PT1H
BEGIN:VTIMEZONE
TZID:Australia/Sydney
BEGIN:STANDARD
TZOFFSETFROM:+1100
TZOFFSETTO:+1000
TZNAME:AEST
DTSTART:20250405T160000
END:STANDARD
BEGIN:DAYLIGHT
TZOFFSETFROM:+1000
TZOFFSETTO:+1100
TZNAME:AEDT
DTSTART:20251004T160000
END:DAYLIGHT
BEGIN:STANDARD
TZOFFSETFROM:+1100
TZOFFSETTO:+1000
TZNAME:AEST
DTSTART:20260404T160000
END:STANDARD
BEGIN:DAYLIGHT
TZOFFSETFROM:+1000
TZOFFSETTO:+1100
TZNAME:AEDT
DTSTART:20261003T160000
END:DAYLIGHT
BEGIN:STANDARD
TZOFFSETFROM:+1100
TZOFFSETTO:+1000
TZNAME:AEST
DTSTART:20270403T160000
END:STANDARD
BEGIN:DAYLIGHT
TZOFFSETFROM:+1000
TZOFFSETTO:+1100
TZNAME:AEDT
DTSTART:20271002T160000
END:DAYLIGHT
END:VTIMEZONE
BEGIN:VEVENT
DTSTART;VALUE=DATE:20260726
DTEND;VALUE=DATE:20260728
DTSTAMP:20260423T075539
CREATED:20251223T074110Z
LAST-MODIFIED:20251223T074110Z
UID:10000256-1785060000-1785146399@warringaharchers.com.au
SUMMARY:SOPA CUP #7
DESCRIPTION:
URL:https://warringaharchers.com.au/event/sopa-cup-7/
LOCATION:NSW
CATEGORIES:Archery NSW
END:VEVENT
BEGIN:VEVENT
DTSTART;VALUE=DATE:20260801
DTEND;VALUE=DATE:20260804
DTSTAMP:20260423T075539
CREATED:20251223T074110Z
LAST-MODIFIED:20251223T074110Z
UID:10000257-1785578400-1785751199@warringaharchers.com.au
SUMMARY:Lake Macquarie Games - Westlakes
DESCRIPTION:
URL:https://warringaharchers.com.au/event/lake-macquarie-games-westlakes/
LOCATION:NSW
CATEGORIES:Archery NSW
END:VEVENT
BEGIN:VEVENT
DTSTART;TZID=Australia/Sydney:20260802T090000
DTEND;TZID=Australia/Sydney:20260802T110000
DTSTAMP:20260423T075539
CREATED:20260419T051715Z
LAST-MODIFIED:20260419T073333Z
UID:10000404-1785661200-1785668400@warringaharchers.com.au
SUMMARY:AdBow/KidBow Program - Week 8
DESCRIPTION:AdBow & KidBow Program with Coaches: Chris Young & Elizabeth Jennison\nThe AdBow & KidBow Program is designed to introduce young archers to the fundamentals of target archery in a safe\, structured\, and supportive environment. The program focuses on building correct technique\, confidence\, and enjoyment through age-appropriate equipment and progressive instruction. \nSessions are led by accredited club coaches and cover essential skills including range safety\, basic shooting form\, aiming\, and follow-through. Emphasis is placed on good habits\, consistency\, and having fun\, rather than competition or performance outcomes. \nAll equipment is provided\, and no prior archery experience is required. The program is suitable for children who are new to archery or looking to develop foundational skills as a pathway into club shooting and future junior programs.
URL:https://warringaharchers.com.au/event/adbow-kidbow-program-20/
LOCATION:Warringah Archers\, 12 Inman Rd\, Cromer NSW 2099\, Australia\, 12 Inman Rd\, Cromer\, NSW\, 2099\, Australia
CATEGORIES:AdBow & KidBow
ATTACH;FMTTYPE=image/jpeg:https://warringaharchers.com.au/wp-content/uploads/2026/04/adbow_kidbow_header.jpg
ORGANIZER;CN="Warringah Archers":MAILTO:info@warringaharchers.com.au
END:VEVENT
BEGIN:VEVENT
DTSTART;VALUE=DATE:20260805
DTEND;VALUE=DATE:20260807
DTSTAMP:20260423T075539
CREATED:20251223T074110Z
LAST-MODIFIED:20251223T074110Z
UID:10000258-1785924000-1786010399@warringaharchers.com.au
SUMMARY:Target QRE - SOPA
DESCRIPTION:
URL:https://warringaharchers.com.au/event/target-qre-sopa/
LOCATION:NSW
CATEGORIES:Archery NSW
END:VEVENT
BEGIN:VEVENT
DTSTART;VALUE=DATE:20260806
DTEND;VALUE=DATE:20260808
DTSTAMP:20260423T075539
CREATED:20260204T092429Z
LAST-MODIFIED:20260204T092429Z
UID:10000328-1786010400-1786096799@warringaharchers.com.au
SUMMARY:WA Indoor 18m QRE - Penrith City Archers
DESCRIPTION:
URL:https://warringaharchers.com.au/event/wa-indoor-18m-qre-penrith-city-archers-11/
LOCATION:NSW
CATEGORIES:Archery NSW
END:VEVENT
BEGIN:VEVENT
DTSTART;VALUE=DATE:20260808
DTEND;VALUE=DATE:20260810
DTSTAMP:20260423T075539
CREATED:20251223T074110Z
LAST-MODIFIED:20251223T074110Z
UID:10000261-1786183200-1786269599@warringaharchers.com.au
SUMMARY:South Coast Field - Illawarra Archers
DESCRIPTION:
URL:https://warringaharchers.com.au/event/south-coast-field-illawarra-archers-2/
LOCATION:NSW
CATEGORIES:Archery NSW
END:VEVENT
BEGIN:VEVENT
DTSTART;TZID=Australia/Sydney:20260809T090000
DTEND;TZID=Australia/Sydney:20260809T110000
DTSTAMP:20260423T075539
CREATED:20260419T051715Z
LAST-MODIFIED:20260419T072956Z
UID:10000405-1786266000-1786273200@warringaharchers.com.au
SUMMARY:AdBow/KidBow Program - Week 9
DESCRIPTION:AdBow & KidBow Program with Coaches: Chris Young & Elizabeth Jennison\nThe AdBow & KidBow Program is designed to introduce young archers to the fundamentals of target archery in a safe\, structured\, and supportive environment. The program focuses on building correct technique\, confidence\, and enjoyment through age-appropriate equipment and progressive instruction. \nSessions are led by accredited club coaches and cover essential skills including range safety\, basic shooting form\, aiming\, and follow-through. Emphasis is placed on good habits\, consistency\, and having fun\, rather than competition or performance outcomes. \nAll equipment is provided\, and no prior archery experience is required. The program is suitable for children who are new to archery or looking to develop foundational skills as a pathway into club shooting and future junior programs.
URL:https://warringaharchers.com.au/event/adbow-kidbow-program-21/
LOCATION:Warringah Archers\, 12 Inman Rd\, Cromer NSW 2099\, Australia\, 12 Inman Rd\, Cromer\, NSW\, 2099\, Australia
CATEGORIES:AdBow & KidBow
ATTACH;FMTTYPE=image/jpeg:https://warringaharchers.com.au/wp-content/uploads/2026/04/adbow_kidbow_header.jpg
ORGANIZER;CN="Warringah Archers":MAILTO:info@warringaharchers.com.au
END:VEVENT
BEGIN:VEVENT
DTSTART;VALUE=DATE:20260809
DTEND;VALUE=DATE:20260811
DTSTAMP:20260423T075539
CREATED:20251223T074110Z
LAST-MODIFIED:20251223T074110Z
UID:10000259-1786269600-1786355999@warringaharchers.com.au
SUMMARY:Target QRE - Newcastle City Archers
DESCRIPTION:
URL:https://warringaharchers.com.au/event/target-qre-newcastle-city-archers-2/
LOCATION:NSW
CATEGORIES:Archery NSW
END:VEVENT
BEGIN:VEVENT
DTSTART;VALUE=DATE:20260809
DTEND;VALUE=DATE:20260811
DTSTAMP:20260423T075539
CREATED:20251223T074110Z
LAST-MODIFIED:20251223T074110Z
UID:10000260-1786269600-1786355999@warringaharchers.com.au
SUMMARY:South Coast Field - Illawarra Archers
DESCRIPTION:
URL:https://warringaharchers.com.au/event/south-coast-field-illawarra-archers/
LOCATION:NSW
CATEGORIES:Archery NSW
END:VEVENT
BEGIN:VEVENT
DTSTART;VALUE=DATE:20260815
DTEND;VALUE=DATE:20260817
DTSTAMP:20260423T075539
CREATED:20251223T074110Z
LAST-MODIFIED:20251223T074110Z
UID:10000263-1786788000-1786874399@warringaharchers.com.au
SUMMARY:SOPA Challenge #2 - SOPA
DESCRIPTION:
URL:https://warringaharchers.com.au/event/sopa-challenge-2-sopa/
LOCATION:NSW
CATEGORIES:Archery NSW
END:VEVENT
BEGIN:VEVENT
DTSTART;TZID=Australia/Sydney:20260816T090000
DTEND;TZID=Australia/Sydney:20260816T110000
DTSTAMP:20260423T075539
CREATED:20260419T051715Z
LAST-MODIFIED:20260419T072503Z
UID:10000406-1786870800-1786878000@warringaharchers.com.au
SUMMARY:AdBow/KidBow Program - Week 10
DESCRIPTION:AdBow & KidBow Program with Coaches: Chris Young & Elizabeth Jennison\nThe AdBow & KidBow Program is designed to introduce young archers to the fundamentals of target archery in a safe\, structured\, and supportive environment. The program focuses on building correct technique\, confidence\, and enjoyment through age-appropriate equipment and progressive instruction. \nSessions are led by accredited club coaches and cover essential skills including range safety\, basic shooting form\, aiming\, and follow-through. Emphasis is placed on good habits\, consistency\, and having fun\, rather than competition or performance outcomes. \nAll equipment is provided\, and no prior archery experience is required. The program is suitable for children who are new to archery or looking to develop foundational skills as a pathway into club shooting and future junior programs.
URL:https://warringaharchers.com.au/event/adbow-kidbow-program-22/
LOCATION:Warringah Archers\, 12 Inman Rd\, Cromer NSW 2099\, Australia\, 12 Inman Rd\, Cromer\, NSW\, 2099\, Australia
CATEGORIES:AdBow & KidBow
ATTACH;FMTTYPE=image/jpeg:https://warringaharchers.com.au/wp-content/uploads/2026/04/adbow_kidbow_header.jpg
ORGANIZER;CN="Warringah Archers":MAILTO:info@warringaharchers.com.au
END:VEVENT
BEGIN:VEVENT
DTSTART;VALUE=DATE:20260816
DTEND;VALUE=DATE:20260818
DTSTAMP:20260423T075539
CREATED:20251223T074110Z
LAST-MODIFIED:20251223T074110Z
UID:10000262-1786874400-1786960799@warringaharchers.com.au
SUMMARY:Matchplay - Coast Archers
DESCRIPTION:
URL:https://warringaharchers.com.au/event/matchplay-coast-archers-2/
LOCATION:NSW
CATEGORIES:Archery NSW
END:VEVENT
BEGIN:VEVENT
DTSTART;VALUE=DATE:20260819
DTEND;VALUE=DATE:20260821
DTSTAMP:20260423T075539
CREATED:20251223T074110Z
LAST-MODIFIED:20251223T074110Z
UID:10000264-1787133600-1787219999@warringaharchers.com.au
SUMMARY:Target QRE -  SOPA
DESCRIPTION:
URL:https://warringaharchers.com.au/event/target-qre-sopa-2/
LOCATION:NSW
CATEGORIES:Archery NSW
END:VEVENT
BEGIN:VEVENT
DTSTART;VALUE=DATE:20260820
DTEND;VALUE=DATE:20260822
DTSTAMP:20260423T075539
CREATED:20260204T092430Z
LAST-MODIFIED:20260204T092430Z
UID:10000329-1787220000-1787306399@warringaharchers.com.au
SUMMARY:WA Indoor 18m QRE - Penrith City Archers
DESCRIPTION:
URL:https://warringaharchers.com.au/event/wa-indoor-18m-qre-penrith-city-archers-12/
LOCATION:NSW
CATEGORIES:Archery NSW
END:VEVENT
BEGIN:VEVENT
DTSTART;VALUE=DATE:20260822
DTEND;VALUE=DATE:20260825
DTSTAMP:20260423T075539
CREATED:20251223T074111Z
LAST-MODIFIED:20251223T074111Z
UID:10000265-1787392800-1787565599@warringaharchers.com.au
SUMMARY:State Indoor Championships  (Combined) - Various
DESCRIPTION:
URL:https://warringaharchers.com.au/event/state-indoor-championships-combined-various/
LOCATION:NSW
CATEGORIES:Archery NSW
END:VEVENT
BEGIN:VEVENT
DTSTART;VALUE=DATE:20260822
DTEND;VALUE=DATE:20260825
DTSTAMP:20260423T075539
CREATED:20251223T074111Z
LAST-MODIFIED:20251223T074111Z
UID:10000266-1787392800-1787565599@warringaharchers.com.au
SUMMARY:National Indoor Championships (Various)
DESCRIPTION:
URL:https://warringaharchers.com.au/event/national-indoor-championships-various/
LOCATION:NSW
CATEGORIES:Archery NSW
END:VEVENT
BEGIN:VEVENT
DTSTART;TZID=Australia/Sydney:20260823T090000
DTEND;TZID=Australia/Sydney:20260823T110000
DTSTAMP:20260423T075539
CREATED:20260419T051715Z
LAST-MODIFIED:20260419T072304Z
UID:10000407-1787475600-1787482800@warringaharchers.com.au
SUMMARY:AdBow/KidBow Program - Week 11
DESCRIPTION:AdBow & KidBow Program with Coaches: Chris Young & Elizabeth Jennison\nThe AdBow & KidBow Program is designed to introduce young archers to the fundamentals of target archery in a safe\, structured\, and supportive environment. The program focuses on building correct technique\, confidence\, and enjoyment through age-appropriate equipment and progressive instruction. \nSessions are led by accredited club coaches and cover essential skills including range safety\, basic shooting form\, aiming\, and follow-through. Emphasis is placed on good habits\, consistency\, and having fun\, rather than competition or performance outcomes. \nAll equipment is provided\, and no prior archery experience is required. The program is suitable for children who are new to archery or looking to develop foundational skills as a pathway into club shooting and future junior programs.
URL:https://warringaharchers.com.au/event/adbow-kidbow-program-23/
LOCATION:Warringah Archers\, 12 Inman Rd\, Cromer NSW 2099\, Australia\, 12 Inman Rd\, Cromer\, NSW\, 2099\, Australia
CATEGORIES:AdBow & KidBow
ATTACH;FMTTYPE=image/jpeg:https://warringaharchers.com.au/wp-content/uploads/2026/04/adbow_kidbow_header.jpg
ORGANIZER;CN="Warringah Archers":MAILTO:info@warringaharchers.com.au
END:VEVENT
BEGIN:VEVENT
DTSTART;VALUE=DATE:20260826
DTEND;VALUE=DATE:20260828
DTSTAMP:20260423T075539
CREATED:20251223T074111Z
LAST-MODIFIED:20251223T074111Z
UID:10000267-1787738400-1787824799@warringaharchers.com.au
SUMMARY:Target QRE - SOPA
DESCRIPTION:
URL:https://warringaharchers.com.au/event/target-qre-sopa-3/
LOCATION:NSW
CATEGORIES:Archery NSW
END:VEVENT
BEGIN:VEVENT
DTSTART;VALUE=DATE:20260829
DTEND;VALUE=DATE:20260831
DTSTAMP:20260423T075539
CREATED:20260120T092321Z
LAST-MODIFIED:20260120T092321Z
UID:10000300-1787997600-1788083999@warringaharchers.com.au
SUMMARY:SOPA Cup #8
DESCRIPTION:
URL:https://warringaharchers.com.au/event/sopa-cup-8/
LOCATION:NSW
CATEGORIES:Archery NSW
END:VEVENT
BEGIN:VEVENT
DTSTART;TZID=Australia/Sydney:20260830T090000
DTEND;TZID=Australia/Sydney:20260830T110000
DTSTAMP:20260423T075539
CREATED:20260419T051715Z
LAST-MODIFIED:20260422T062618Z
UID:10000409-1788080400-1788087600@warringaharchers.com.au
SUMMARY:AdBow/KidBow Program - Final Tournament
DESCRIPTION:AdBow & KidBow Final Tournament with Coaches: Chris Young & Elizabeth Jennison\nRound: Shrinking Page 6 ends @ 10m 122cm face\, 4 ends on 80cm face\, 3 ends on 60cm face & 2 ends on 40cm face. \nThe AdBow & KidBow Program is designed to introduce young archers to the fundamentals of target archery in a safe\, structured\, and supportive environment. The program focuses on building correct technique\, confidence\, and enjoyment through age-appropriate equipment and progressive instruction. \nSessions are led by accredited club coaches and cover essential skills including range safety\, basic shooting form\, aiming\, and follow-through. Emphasis is placed on good habits\, consistency\, and having fun\, rather than competition or performance outcomes. \nAll equipment is provided\, and no prior archery experience is required. The program is suitable for children who are new to archery or looking to develop foundational skills as a pathway into club shooting and future junior programs.
URL:https://warringaharchers.com.au/event/adbow-kidbow-program-final-tournament/
LOCATION:Warringah Archers\, 12 Inman Rd\, Cromer NSW 2099\, Australia\, 12 Inman Rd\, Cromer\, NSW\, 2099\, Australia
CATEGORIES:AdBow & KidBow
ATTACH;FMTTYPE=image/jpeg:https://warringaharchers.com.au/wp-content/uploads/2026/04/adbow_kidbow_header.jpg
ORGANIZER;CN="Warringah Archers":MAILTO:info@warringaharchers.com.au
END:VEVENT
BEGIN:VEVENT
DTSTART;VALUE=DATE:20260830
DTEND;VALUE=DATE:20260901
DTSTAMP:20260423T075539
CREATED:20260119T092205Z
LAST-MODIFIED:20260119T092205Z
UID:10000299-1788084000-1788170399@warringaharchers.com.au
SUMMARY:Spring Fling Championships - Liverpool City Archers
DESCRIPTION:
URL:https://warringaharchers.com.au/event/spring-fling-championships-liverpool-city-archers/
LOCATION:NSW
CATEGORIES:Archery NSW
END:VEVENT
BEGIN:VEVENT
DTSTART;VALUE=DATE:20260906
DTEND;VALUE=DATE:20260908
DTSTAMP:20260423T075539
CREATED:20251223T074111Z
LAST-MODIFIED:20251223T074111Z
UID:10000268-1788688800-1788775199@warringaharchers.com.au
SUMMARY:Target QRE - Newcastle City Archers
DESCRIPTION:
URL:https://warringaharchers.com.au/event/target-qre-newcastle-city-archers-3/
LOCATION:NSW
CATEGORIES:Archery NSW
END:VEVENT
BEGIN:VEVENT
DTSTART;VALUE=DATE:20260909
DTEND;VALUE=DATE:20260911
DTSTAMP:20260423T075539
CREATED:20260120T092321Z
LAST-MODIFIED:20260120T092321Z
UID:10000301-1788948000-1789034399@warringaharchers.com.au
SUMMARY:Target QRE- SOPA
DESCRIPTION:
URL:https://warringaharchers.com.au/event/target-qre-sopa-12/
LOCATION:NSW
CATEGORIES:Archery NSW
END:VEVENT
BEGIN:VEVENT
DTSTART;VALUE=DATE:20260913
DTEND;VALUE=DATE:20260915
DTSTAMP:20260423T075539
CREATED:20251223T074111Z
LAST-MODIFIED:20251223T074111Z
UID:10000269-1789293600-1789379999@warringaharchers.com.au
SUMMARY:Keeping the Flame Alive - SOPA
DESCRIPTION:
URL:https://warringaharchers.com.au/event/keeping-the-flame-alive-sopa/
LOCATION:NSW
CATEGORIES:Archery NSW
END:VEVENT
BEGIN:VEVENT
DTSTART;VALUE=DATE:20260916
DTEND;VALUE=DATE:20260918
DTSTAMP:20260423T075539
CREATED:20251223T074111Z
LAST-MODIFIED:20251223T074111Z
UID:10000270-1789552800-1789639199@warringaharchers.com.au
SUMMARY:Target QRE - SOPA
DESCRIPTION:
URL:https://warringaharchers.com.au/event/target-qre-sopa-4/
LOCATION:NSW
CATEGORIES:Archery NSW
END:VEVENT
BEGIN:VEVENT
DTSTART;VALUE=DATE:20260919
DTEND;VALUE=DATE:20260922
DTSTAMP:20260423T075539
CREATED:20251223T074111Z
LAST-MODIFIED:20251223T074111Z
UID:10000271-1789812000-1789984799@warringaharchers.com.au
SUMMARY:State Matchplay Championships - TBA
DESCRIPTION:
URL:https://warringaharchers.com.au/event/state-matchplay-championships-tba/
LOCATION:NSW
CATEGORIES:Archery NSW
END:VEVENT
BEGIN:VEVENT
DTSTART;VALUE=DATE:20260923
DTEND;VALUE=DATE:20260925
DTSTAMP:20260423T075539
CREATED:20251223T074111Z
LAST-MODIFIED:20251223T074111Z
UID:10000272-1790157600-1790243999@warringaharchers.com.au
SUMMARY:Target QRE - SOPA
DESCRIPTION:
URL:https://warringaharchers.com.au/event/target-qre-sopa-5/
LOCATION:NSW
CATEGORIES:Archery NSW
END:VEVENT
BEGIN:VEVENT
DTSTART;VALUE=DATE:20260924
DTEND;VALUE=DATE:20261006
DTSTAMP:20260423T075539
CREATED:20251223T074111Z
LAST-MODIFIED:20251223T074111Z
UID:10000274-1790244000-1791197999@warringaharchers.com.au
SUMMARY:World Field Championships - Yankton\, USA (International)
DESCRIPTION:
URL:https://warringaharchers.com.au/event/world-field-championships-yankton-usa-international/
LOCATION:NSW
CATEGORIES:Archery NSW
END:VEVENT
BEGIN:VEVENT
DTSTART;VALUE=DATE:20261004
DTEND;VALUE=DATE:20261006
DTSTAMP:20260423T075539
CREATED:20251223T074111Z
LAST-MODIFIED:20251223T074111Z
UID:10000273-1791111600-1791197999@warringaharchers.com.au
SUMMARY:SOPA Challenge #3 - SOPA
DESCRIPTION:
URL:https://warringaharchers.com.au/event/sopa-challenge-3-sopa/
LOCATION:NSW
CATEGORIES:Archery NSW
END:VEVENT
BEGIN:VEVENT
DTSTART;VALUE=DATE:20261007
DTEND;VALUE=DATE:20261009
DTSTAMP:20260423T075539
CREATED:20251223T074111Z
LAST-MODIFIED:20251223T074111Z
UID:10000275-1791370800-1791457199@warringaharchers.com.au
SUMMARY:Target QRE - SOPA
DESCRIPTION:
URL:https://warringaharchers.com.au/event/target-qre-sopa-6/
LOCATION:NSW
CATEGORIES:Archery NSW
END:VEVENT
END:VCALENDAR