BEGIN:VCALENDAR
VERSION:2.0
PRODID:-//Warringah Archers - ECPv6.15.20//NONSGML v1.0//EN
CALSCALE:GREGORIAN
METHOD:PUBLISH
X-WR-CALNAME:Warringah Archers
X-ORIGINAL-URL:https://warringaharchers.com.au
X-WR-CALDESC:Events for Warringah Archers
REFRESH-INTERVAL;VALUE=DURATION:PT1H
X-Robots-Tag:noindex
X-PUBLISHED-TTL:PT1H
BEGIN:VTIMEZONE
TZID:Australia/Sydney
BEGIN:STANDARD
TZOFFSETFROM:+1100
TZOFFSETTO:+1000
TZNAME:AEST
DTSTART:20250405T160000
END:STANDARD
BEGIN:DAYLIGHT
TZOFFSETFROM:+1000
TZOFFSETTO:+1100
TZNAME:AEDT
DTSTART:20251004T160000
END:DAYLIGHT
BEGIN:STANDARD
TZOFFSETFROM:+1100
TZOFFSETTO:+1000
TZNAME:AEST
DTSTART:20260404T160000
END:STANDARD
BEGIN:DAYLIGHT
TZOFFSETFROM:+1000
TZOFFSETTO:+1100
TZNAME:AEDT
DTSTART:20261003T160000
END:DAYLIGHT
BEGIN:STANDARD
TZOFFSETFROM:+1100
TZOFFSETTO:+1000
TZNAME:AEST
DTSTART:20270403T160000
END:STANDARD
BEGIN:DAYLIGHT
TZOFFSETFROM:+1000
TZOFFSETTO:+1100
TZNAME:AEDT
DTSTART:20271002T160000
END:DAYLIGHT
END:VTIMEZONE
BEGIN:VEVENT
DTSTART;VALUE=DATE:20260421
DTEND;VALUE=DATE:20260428
DTSTAMP:20260422T065218
CREATED:20251223T074107Z
LAST-MODIFIED:20251223T074107Z
UID:10000230-1776765600-1777283999@warringaharchers.com.au
SUMMARY:Asia Cup #2 - Sulaymaniyah Iraq (Continental)
DESCRIPTION:
URL:https://warringaharchers.com.au/event/asia-cup-2-sulaymaniyah-iraq-continental/
LOCATION:NSW
CATEGORIES:Archery NSW
END:VEVENT
BEGIN:VEVENT
DTSTART;TZID=Australia/Sydney:20260422T160000
DTEND;TZID=Australia/Sydney:20260422T190000
DTSTAMP:20260422T065218
CREATED:20260211T230101Z
LAST-MODIFIED:20260211T230101Z
UID:10000341-1776873600-1776884400@warringaharchers.com.au
SUMMARY:Grange/Geelong/Newcastle
DESCRIPTION:90 arrows @ 60m or 30m 122cm face or 20m for U10 & New beginners
URL:https://warringaharchers.com.au/event/grange-geelong-newcastle/
LOCATION:Warringah Archers\, 12 Inman Rd\, Cromer NSW 2099\, Australia\, 12 Inman Rd\, Cromer\, NSW\, 2099\, Australia
CATEGORIES:Club Shoots
END:VEVENT
BEGIN:VEVENT
DTSTART;VALUE=DATE:20260423
DTEND;VALUE=DATE:20260425
DTSTAMP:20260422T065218
CREATED:20251223T074108Z
LAST-MODIFIED:20251223T074108Z
UID:10000231-1776938400-1777024799@warringaharchers.com.au
SUMMARY:Indoor QRE - SOPA
DESCRIPTION:
URL:https://warringaharchers.com.au/event/indoor-qre-sopa-5/
LOCATION:NSW
CATEGORIES:Archery NSW
END:VEVENT
BEGIN:VEVENT
DTSTART;TZID=Australia/Sydney:20260425T080000
DTEND;TZID=Australia/Sydney:20260425T120000
DTSTAMP:20260422T065218
CREATED:20260211T230101Z
LAST-MODIFIED:20260211T230101Z
UID:10000342-1777104000-1777118400@warringaharchers.com.au
SUMMARY:Launceston/Sarah Lee/Peter Pan - AM
DESCRIPTION:Ground Crew: Elizabeth Jennison & Peter Whitfield\n36 arrows @  50/30 (80cm) or 25/20m (122cm face) or 15/10 (80cm face-New members only)  AM
URL:https://warringaharchers.com.au/event/launceston-sarah-lee-peter-pan-am/
LOCATION:Warringah Archers\, 12 Inman Rd\, Cromer NSW 2099\, Australia\, 12 Inman Rd\, Cromer\, NSW\, 2099\, Australia
CATEGORIES:Club Shoots
END:VEVENT
BEGIN:VEVENT
DTSTART;TZID=Australia/Sydney:20260425T090000
DTEND;TZID=Australia/Sydney:20260425T110000
DTSTAMP:20260422T065218
CREATED:20260119T013556Z
LAST-MODIFIED:20260119T015437Z
UID:10000298-1777107600-1777114800@warringaharchers.com.au
SUMMARY:Come N Try Archery: Elizabeth Jennison
DESCRIPTION:Our Come N Try sessions are designed for beginners with no prior experience. Over a relaxed two-hour session\, you’ll be introduced to the basics of target archery by experienced club instructors\, with all equipment provided. You’ll learn safe shooting technique\, range etiquette\, and have plenty of time on the line to shoot arrows and build confidence. \nThese sessions are suitable for adults and juniors (from age 6)\, with small group sizes to ensure proper supervision and instruction. Closed footwear is required\, and we recommend comfortable clothing suitable for outdoor conditions. If you’ve ever been curious about archery\, this is the simplest and safest way to give it a go. \nWith Coach: Elizabeth Jennison
URL:https://warringaharchers.com.au/event/come-n-try-archery-elizabeth-jennison/
LOCATION:Warringah Archers\, 12 Inman Rd\, Cromer NSW 2099\, Australia\, 12 Inman Rd\, Cromer\, NSW\, 2099\, Australia
CATEGORIES:Come N Try
ATTACH;FMTTYPE=image/png:https://warringaharchers.com.au/wp-content/uploads/2025/10/come_n_try_cartoon-e1765850994265.png
END:VEVENT
BEGIN:VEVENT
DTSTART;VALUE=DATE:20260425
DTEND;VALUE=DATE:20260427
DTSTAMP:20260422T065218
CREATED:20260304T100052Z
LAST-MODIFIED:20260304T100052Z
UID:10000350-1777111200-1777197599@warringaharchers.com.au
SUMMARY:Armidale Unmarked Field QRE
DESCRIPTION:Registrations for one or both days is now open via Archers Diary\nIf you have any questions please contact the club
URL:https://warringaharchers.com.au/event/armidale-unmarked-field-qre/
LOCATION:Armidale archery field\, Armidale NSW 2350\, Australia
CATEGORIES:Archery NSW
END:VEVENT
BEGIN:VEVENT
DTSTART;TZID=Australia/Sydney:20260425T123000
DTEND;TZID=Australia/Sydney:20260425T160000
DTSTAMP:20260422T065218
CREATED:20260211T230101Z
LAST-MODIFIED:20260211T230101Z
UID:10000343-1777120200-1777132800@warringaharchers.com.au
SUMMARY:WA indoor 1 & 2 Combine PM
DESCRIPTION:Members will need to mark out field distances prior to shooting.\nWA Indoor 1 & 2 Combined (25#&18#) PM
URL:https://warringaharchers.com.au/event/wa-indoor-1-2-combine-pm/
LOCATION:Warringah Archers\, 12 Inman Rd\, Cromer NSW 2099\, Australia\, 12 Inman Rd\, Cromer\, NSW\, 2099\, Australia
CATEGORIES:Club Shoots
END:VEVENT
BEGIN:VEVENT
DTSTART;TZID=Australia/Sydney:20260426T080000
DTEND;TZID=Australia/Sydney:20260426T120000
DTSTAMP:20260422T065218
CREATED:20260211T230101Z
LAST-MODIFIED:20260211T230101Z
UID:10000344-1777190400-1777204800@warringaharchers.com.au
SUMMARY:Canberra / Short Canberra / Junior Canberra/Mini Canberra or Newcaslte
DESCRIPTION:Ground Crew: Leanne Spencer / Jon Whitear\n36 arrows @ 60m/50m/40m or 50m/40m/30m\, or 40m/30m/20m or 30m/20m/10m (122cm face) or 90 arrows @ 20m 122cm face
URL:https://warringaharchers.com.au/event/canberra-short-canberra-junior-canberra-mini-canberra-or-newcaslte/
LOCATION:Warringah Archers\, 12 Inman Rd\, Cromer NSW 2099\, Australia\, 12 Inman Rd\, Cromer\, NSW\, 2099\, Australia
CATEGORIES:Club Shoots
END:VEVENT
BEGIN:VEVENT
DTSTART;VALUE=DATE:20260426
DTEND;VALUE=DATE:20260428
DTSTAMP:20260422T065218
CREATED:20251223T074108Z
LAST-MODIFIED:20251223T074108Z
UID:10000232-1777197600-1777283999@warringaharchers.com.au
SUMMARY:SOPA CUP #4
DESCRIPTION:
URL:https://warringaharchers.com.au/event/sopa-cup-4/
LOCATION:NSW
CATEGORIES:Archery NSW
END:VEVENT
BEGIN:VEVENT
DTSTART;VALUE=DATE:20260426
DTEND;VALUE=DATE:20260428
DTSTAMP:20260422T065218
CREATED:20260304T100052Z
LAST-MODIFIED:20260304T100052Z
UID:10000349-1777197600-1777283999@warringaharchers.com.au
SUMMARY:Armidale Marked Field QRE
DESCRIPTION:Registrations for one or both days is now open via Archers Diary.\nIf you have any questions please contact the club
URL:https://warringaharchers.com.au/event/armidale-marked-field-qre/
LOCATION:Armidale archery field\, Armidale NSW 2350\, Australia
CATEGORIES:Archery NSW
END:VEVENT
BEGIN:VEVENT
DTSTART;TZID=Australia/Sydney:20260426T113000
DTEND;TZID=Australia/Sydney:20260426T140000
DTSTAMP:20260422T065218
CREATED:20260415T103421Z
LAST-MODIFIED:20260415T103421Z
UID:10000361-1777203000-1777212000@warringaharchers.com.au
SUMMARY:Canberra Rounds (Oceania Postal) PM
DESCRIPTION:Members shooting AM need to ensure targets are available for 2nd session around 11.30am
URL:https://warringaharchers.com.au/event/canberra-rounds-oceania-postal-pm/
LOCATION:NSW
CATEGORIES:Club Shoots
END:VEVENT
BEGIN:VEVENT
DTSTART;TZID=Australia/Sydney:20260427T160000
DTEND;TZID=Australia/Sydney:20260427T190000
DTSTAMP:20260422T065218
CREATED:20260211T230102Z
LAST-MODIFIED:20260211T230102Z
UID:10000345-1777305600-1777316400@warringaharchers.com.au
SUMMARY:Ranking Rounds
DESCRIPTION:Dependant on age / discipline
URL:https://warringaharchers.com.au/event/ranking-rounds-5/
LOCATION:Warringah Archers\, 12 Inman Rd\, Cromer NSW 2099\, Australia\, 12 Inman Rd\, Cromer\, NSW\, 2099\, Australia
CATEGORIES:Club Shoots
END:VEVENT
BEGIN:VEVENT
DTSTART;TZID=Australia/Sydney:20260429T160000
DTEND;TZID=Australia/Sydney:20260429T190000
DTSTAMP:20260422T065218
CREATED:20260211T230102Z
LAST-MODIFIED:20260211T230102Z
UID:10000346-1777478400-1777489200@warringaharchers.com.au
SUMMARY:WA Indoor 1 or Pound Stirling (U12)
DESCRIPTION:60 arrows @ 18m 40cm face or 18m 80cm face
URL:https://warringaharchers.com.au/event/wa-indoor-1-or-pound-stirling-u12/
LOCATION:Warringah Archers\, 12 Inman Rd\, Cromer NSW 2099\, Australia\, 12 Inman Rd\, Cromer\, NSW\, 2099\, Australia
CATEGORIES:Club Shoots
END:VEVENT
BEGIN:VEVENT
DTSTART;VALUE=DATE:20260430
DTEND;VALUE=DATE:20260502
DTSTAMP:20260422T065218
CREATED:20260204T092429Z
LAST-MODIFIED:20260204T092429Z
UID:10000320-1777543200-1777629599@warringaharchers.com.au
SUMMARY:WA Indoor 18m QRE - Penrith City Archers
DESCRIPTION:
URL:https://warringaharchers.com.au/event/wa-indoor-18m-qre-penrith-city-archers-3/
LOCATION:NSW
CATEGORIES:Archery NSW
END:VEVENT
BEGIN:VEVENT
DTSTART;TZID=Australia/Sydney:20260502T080000
DTEND;TZID=Australia/Sydney:20260502T120000
DTSTAMP:20260422T065218
CREATED:20260415T103421Z
LAST-MODIFIED:20260415T103421Z
UID:10000362-1777708800-1777723200@warringaharchers.com.au
SUMMARY:Perth / Golden Gong / Newcastle
DESCRIPTION:Ground Crew: Ground Crew: Servane Deplanque & Jean-Francoise Lazarone\nClub Round: 30 arrows @ 70/60/50m or 30/25/20m or 90 arrows @ 20m
URL:https://warringaharchers.com.au/event/perth-golden-gong-newcastle/
LOCATION:Warringah Archers\, 12 Inman Rd\, Cromer NSW 2099\, Australia\, 12 Inman Rd\, Cromer\, NSW\, 2099\, Australia
CATEGORIES:Club Shoots
END:VEVENT
BEGIN:VEVENT
DTSTART;TZID=Australia/Sydney:20260502T090000
DTEND;TZID=Australia/Sydney:20260502T110000
DTSTAMP:20260422T065218
CREATED:20260125T212406Z
LAST-MODIFIED:20260413T232100Z
UID:10000303-1777712400-1777719600@warringaharchers.com.au
SUMMARY:Beginner Course: Peter - Week 1
DESCRIPTION:Beginner Archery Course (3–4 Weeks)\nWarringah Archers’ Beginner Course is a structured progression from introductory shooting to consistent\, independent practice. The course runs over three or four weekly sessions\, each lasting two hours\, and is designed for those who have completed at least one Come N Try session or have equivalent exposure to archery basics. \nAcross the course you’ll cover range safety\, equipment handling\, warm-up and cool-down routines\, and the fundamentals of target archery. Instruction focuses on building a repeatable shot process\, including stance\, bow hand\, draw\, anchor\, aim\, release\, and follow-through\, along with practical skills such as target set-up\, arrow selection\, and basic equipment care. \nAn optional fourth session provides the opportunity to shoot alongside club members under normal club conditions. This session runs at a different time and details are provided during the course. On completion\, participants will have the knowledge required to select and maintain basic equipment\, understand scoring\, and continue shooting safely and confidently at club level.
URL:https://warringaharchers.com.au/event/beginner-course-peter/
LOCATION:Warringah Archers\, 12 Inman Rd\, Cromer NSW 2099\, Australia\, 12 Inman Rd\, Cromer\, NSW\, 2099\, Australia
CATEGORIES:Beginner Courses
ATTACH;FMTTYPE=image/jpeg:https://warringaharchers.com.au/wp-content/uploads/2026/01/beginners_course_fb.jpg
ORGANIZER;CN="Warringah Archers":MAILTO:info@warringaharchers.com.au
END:VEVENT
BEGIN:VEVENT
DTSTART;TZID=Australia/Sydney:20260503T080000
DTEND;TZID=Australia/Sydney:20260503T163000
DTSTAMP:20260422T065218
CREATED:20260415T103421Z
LAST-MODIFIED:20260415T103421Z
UID:10000363-1777795200-1777825800@warringaharchers.com.au
SUMMARY:Canberra / Sht.Canberra / Jun.Canberra (Oceania Postal)  / Mini Canberra /Newcastle AM Canberra rounds (Oceania Postal) PM
DESCRIPTION:Ground Crew: The Timmer Family\nClub Round: 30 arrows @ 60/50/40 or 50/40/30\, or 40/30/20 or 30/20/10 (122cm face) or 90 arrows @ 20m on 122cm face
URL:https://warringaharchers.com.au/event/canberra-sht-canberra-jun-canberra-oceania-postal-mini-canberra-newcastle-am-canberra-rounds-oceania-postal-pm/
LOCATION:Warringah Archers\, 12 Inman Rd\, Cromer NSW 2099\, Australia\, 12 Inman Rd\, Cromer\, NSW\, 2099\, Australia
CATEGORIES:Club Shoots
END:VEVENT
BEGIN:VEVENT
DTSTART;VALUE=DATE:20260503
DTEND;VALUE=DATE:20260505
DTSTAMP:20260422T065218
CREATED:20251223T074108Z
LAST-MODIFIED:20251223T074108Z
UID:10000233-1777802400-1777888799@warringaharchers.com.au
SUMMARY:Golden Gong - Illawarra Archers
DESCRIPTION:
URL:https://warringaharchers.com.au/event/golden-gong-illawarra-archers/
LOCATION:NSW
CATEGORIES:Archery NSW
END:VEVENT
BEGIN:VEVENT
DTSTART;VALUE=DATE:20260503
DTEND;VALUE=DATE:20260505
DTSTAMP:20260422T065218
CREATED:20251223T074108Z
LAST-MODIFIED:20251223T074108Z
UID:10000234-1777802400-1777888799@warringaharchers.com.au
SUMMARY:Matchplay - Coast Archers
DESCRIPTION:
URL:https://warringaharchers.com.au/event/matchplay-coast-archers/
LOCATION:NSW
CATEGORIES:Archery NSW
END:VEVENT
BEGIN:VEVENT
DTSTART;TZID=Australia/Sydney:20260504T160000
DTEND;TZID=Australia/Sydney:20260504T192000
DTSTAMP:20260422T065218
CREATED:20260415T103421Z
LAST-MODIFIED:20260415T103421Z
UID:10000364-1777910400-1777922400@warringaharchers.com.au
SUMMARY:Double Australian Indoor 1 or Lady Spencer
DESCRIPTION:Club Round: 2 x 30 arrows @ 18m 40cm face or 2 x 30 arrows @ 10m 40cm face
URL:https://warringaharchers.com.au/event/double-australian-indoor-1-or-lady-spencer/
LOCATION:Warringah Archers\, 12 Inman Rd\, Cromer NSW 2099\, Australia\, 12 Inman Rd\, Cromer\, NSW\, 2099\, Australia
CATEGORIES:Club Shoots
END:VEVENT
BEGIN:VEVENT
DTSTART;VALUE=DATE:20260505
DTEND;VALUE=DATE:20260512
DTSTAMP:20260422T065218
CREATED:20251223T074108Z
LAST-MODIFIED:20251223T074108Z
UID:10000235-1777975200-1778493599@warringaharchers.com.au
SUMMARY:Hyundai Archery WC2 - Shanghai China (International)
DESCRIPTION:
URL:https://warringaharchers.com.au/event/hyundai-archery-wc2-shanghai-china-international/
LOCATION:NSW
CATEGORIES:Archery NSW
END:VEVENT
BEGIN:VEVENT
DTSTART;TZID=Australia/Sydney:20260506T160000
DTEND;TZID=Australia/Sydney:20260506T192000
DTSTAMP:20260422T065218
CREATED:20260415T103421Z
LAST-MODIFIED:20260415T103421Z
UID:10000365-1778083200-1778095200@warringaharchers.com.au
SUMMARY:WA Indoor 1 or Pound Stirling (U12)
DESCRIPTION:Club Round: 60 arrows @ 18m 40cm face or 18m on 80cm face
URL:https://warringaharchers.com.au/event/wa-indoor-1-or-pound-stirling-u12-2/
LOCATION:Warringah Archers\, 12 Inman Rd\, Cromer NSW 2099\, Australia\, 12 Inman Rd\, Cromer\, NSW\, 2099\, Australia
CATEGORIES:Club Shoots
END:VEVENT
BEGIN:VEVENT
DTSTART;VALUE=DATE:20260507
DTEND;VALUE=DATE:20260509
DTSTAMP:20260422T065218
CREATED:20251223T074108Z
LAST-MODIFIED:20251223T074108Z
UID:10000236-1778148000-1778234399@warringaharchers.com.au
SUMMARY:Indoor QRE - SOPA
DESCRIPTION:
URL:https://warringaharchers.com.au/event/indoor-qre-sopa-6/
LOCATION:NSW
CATEGORIES:Archery NSW
END:VEVENT
BEGIN:VEVENT
DTSTART;TZID=Australia/Sydney:20260509T080000
DTEND;TZID=Australia/Sydney:20260509T120000
DTSTAMP:20260422T065218
CREATED:20260415T103421Z
LAST-MODIFIED:20260415T103421Z
UID:10000366-1778313600-1778328000@warringaharchers.com.au
SUMMARY:Canberra / Sht.Canberra / Jun.Canberra (Oceania Postal)  / Mini Canberra or Newcastle
DESCRIPTION:Ground Crew: Ground Crew: Pisko Family\nClub Round: 30 arrows @ 60/50/40 or 50/40/30\, or 40/30/20 or 30/20/10 (122cm face) or 20m 122cm face
URL:https://warringaharchers.com.au/event/canberra-sht-canberra-jun-canberra-oceania-postal-mini-canberra-or-newcastle/
LOCATION:Warringah Archers\, 12 Inman Rd\, Cromer NSW 2099\, Australia\, 12 Inman Rd\, Cromer\, NSW\, 2099\, Australia
CATEGORIES:Club Shoots
END:VEVENT
BEGIN:VEVENT
DTSTART;TZID=Australia/Sydney:20260509T090000
DTEND;TZID=Australia/Sydney:20260509T110000
DTSTAMP:20260422T065218
CREATED:20260125T212406Z
LAST-MODIFIED:20260315T114726Z
UID:10000304-1778317200-1778324400@warringaharchers.com.au
SUMMARY:Beginner Course: Peter - Week 2
DESCRIPTION:This is the second weekend of the Beginners Course. \nBeginner Archery Course (3–4 Weeks)\nWarringah Archers’ Beginner Course is a structured progression from introductory shooting to consistent\, independent practice. The course runs over three or four weekly sessions\, each lasting two hours\, and is designed for those who have completed at least one Come N Try session or have equivalent exposure to archery basics. \nAcross the course you’ll cover range safety\, equipment handling\, warm-up and cool-down routines\, and the fundamentals of target archery. Instruction focuses on building a repeatable shot process\, including stance\, bow hand\, draw\, anchor\, aim\, release\, and follow-through\, along with practical skills such as target set-up\, arrow selection\, and basic equipment care. \nAn optional fourth session provides the opportunity to shoot alongside club members under normal club conditions. This session runs at a different time and details are provided during the course. On completion\, participants will have the knowledge required to select and maintain basic equipment\, understand scoring\, and continue shooting safely and confidently at club level.
URL:https://warringaharchers.com.au/event/beginner-course-peter-2/
LOCATION:Warringah Archers\, 12 Inman Rd\, Cromer NSW 2099\, Australia\, 12 Inman Rd\, Cromer\, NSW\, 2099\, Australia
CATEGORIES:Beginner Courses
ATTACH;FMTTYPE=image/jpeg:https://warringaharchers.com.au/wp-content/uploads/2025/12/come_n_try_targets.jpg
ORGANIZER;CN="Warringah Archers":MAILTO:info@warringaharchers.com.au
END:VEVENT
BEGIN:VEVENT
DTSTART;VALUE=DATE:20260509
DTEND;VALUE=DATE:20260512
DTSTAMP:20260422T065218
CREATED:20260127T092151Z
LAST-MODIFIED:20260127T092151Z
UID:10000308-1778320800-1778493599@warringaharchers.com.au
SUMMARY:Bathurst Youth Development Camp
DESCRIPTION:
URL:https://warringaharchers.com.au/event/bathurst-youth-development-camp/
LOCATION:Bathurst Archers\, 255 Boundary Rd\, Bathurst NSW 2795\, Australia
CATEGORIES:Archery NSW
END:VEVENT
BEGIN:VEVENT
DTSTART;TZID=Australia/Sydney:20260510T080000
DTEND;TZID=Australia/Sydney:20260510T163000
DTSTAMP:20260422T065218
CREATED:20260415T103421Z
LAST-MODIFIED:20260415T103421Z
UID:10000367-1778400000-1778430600@warringaharchers.com.au
SUMMARY:Ranking Rounds AM & PM Session
DESCRIPTION:Ground Crew: Ground Crew: The Van der Watt Family\nClub Round: Ranking round-Round will be appropriate round for age group
URL:https://warringaharchers.com.au/event/ranking-rounds-am-pm-session/
LOCATION:Warringah Archers\, 12 Inman Rd\, Cromer NSW 2099\, Australia\, 12 Inman Rd\, Cromer\, NSW\, 2099\, Australia
CATEGORIES:Club Shoots
END:VEVENT
BEGIN:VEVENT
DTSTART;TZID=Australia/Sydney:20260510T090000
DTEND;TZID=Australia/Sydney:20260510T110000
DTSTAMP:20260422T065218
CREATED:20260309T124625Z
LAST-MODIFIED:20260414T022317Z
UID:10000351-1778403600-1778410800@warringaharchers.com.au
SUMMARY:Come N Try: Mothers Day Bash - With Coaches Elizabeth & Ben
DESCRIPTION:Looking for a special Mother’s Day gift that’s a little different this year? \nWhy not join us for the Warringah Archers Mother’s Day Bash and bring the whole family along. Spend the morning outdoors trying something new together as you learn the basics of target archery with the help of our friendly club coaches. \nOur Come ‘N’ Try session is designed for beginners\, with no experience required. All equipment is provided\, and we’ll guide you through safe shooting techniques so everyone can enjoy the experience – whether you’re cheering Mum on or stepping up to the shooting line yourself. \nMake it a memorable way to celebrate Mother’s Day: \n\nTry archery together\nEnjoy a relaxed morning outdoors\nPerfect for families\n\nOnly 20 spots are available\, so bookings are essential. \nGive Mum a Mother’s Day she won’t forget with Coaches: Elizabeth Jennison & Ben Mauger
URL:https://warringaharchers.com.au/event/come-n-try-mothers-day-bash-coaches-elizabeth-ben/
LOCATION:Warringah Archers\, 12 Inman Rd\, Cromer NSW 2099\, Australia\, 12 Inman Rd\, Cromer\, NSW\, 2099\, Australia
CATEGORIES:Come N Try
ATTACH;FMTTYPE=image/jpeg:https://warringaharchers.com.au/wp-content/uploads/2026/03/mothers_day_bash.jpg
ORGANIZER;CN="Warringah Archers":MAILTO:info@warringaharchers.com.au
END:VEVENT
BEGIN:VEVENT
DTSTART;TZID=Australia/Sydney:20260511T160000
DTEND;TZID=Australia/Sydney:20260511T192000
DTSTAMP:20260422T065218
CREATED:20260415T103421Z
LAST-MODIFIED:20260415T103421Z
UID:10000368-1778515200-1778527200@warringaharchers.com.au
SUMMARY:Australian Indoor 1 & 2 + Lady Spencer
DESCRIPTION:2 x 30 arrows @ 18m 40cm face or 2 x 30 arrows @ 10m 40cm face
URL:https://warringaharchers.com.au/event/australian-indoor-1-2-lady-spencer/
LOCATION:Warringah Archers\, 12 Inman Rd\, Cromer NSW 2099\, Australia\, 12 Inman Rd\, Cromer\, NSW\, 2099\, Australia
CATEGORIES:Club Shoots
END:VEVENT
BEGIN:VEVENT
DTSTART;TZID=Australia/Sydney:20260513T160000
DTEND;TZID=Australia/Sydney:20260513T192000
DTSTAMP:20260422T065218
CREATED:20260415T103422Z
LAST-MODIFIED:20260415T103422Z
UID:10000369-1778688000-1778700000@warringaharchers.com.au
SUMMARY:WA Indoor 2 or Pound Stirling
DESCRIPTION:60 arrows @ 25m on 60cm face or 18m on 80cm face (U12)
URL:https://warringaharchers.com.au/event/wa-indoor-2-or-pound-stirling/
LOCATION:NSW
CATEGORIES:Club Shoots
END:VEVENT
END:VCALENDAR