BEGIN:VCALENDAR
VERSION:2.0
PRODID:-//Warringah Archers - ECPv6.15.20//NONSGML v1.0//EN
CALSCALE:GREGORIAN
METHOD:PUBLISH
X-ORIGINAL-URL:https://warringaharchers.com.au
X-WR-CALDESC:Events for Warringah Archers
REFRESH-INTERVAL;VALUE=DURATION:PT1H
X-Robots-Tag:noindex
X-PUBLISHED-TTL:PT1H
BEGIN:VTIMEZONE
TZID:Australia/Sydney
BEGIN:STANDARD
TZOFFSETFROM:+1100
TZOFFSETTO:+1000
TZNAME:AEST
DTSTART:20250405T160000
END:STANDARD
BEGIN:DAYLIGHT
TZOFFSETFROM:+1000
TZOFFSETTO:+1100
TZNAME:AEDT
DTSTART:20251004T160000
END:DAYLIGHT
BEGIN:STANDARD
TZOFFSETFROM:+1100
TZOFFSETTO:+1000
TZNAME:AEST
DTSTART:20260404T160000
END:STANDARD
BEGIN:DAYLIGHT
TZOFFSETFROM:+1000
TZOFFSETTO:+1100
TZNAME:AEDT
DTSTART:20261003T160000
END:DAYLIGHT
BEGIN:STANDARD
TZOFFSETFROM:+1100
TZOFFSETTO:+1000
TZNAME:AEST
DTSTART:20270403T160000
END:STANDARD
BEGIN:DAYLIGHT
TZOFFSETFROM:+1000
TZOFFSETTO:+1100
TZNAME:AEDT
DTSTART:20271002T160000
END:DAYLIGHT
END:VTIMEZONE
BEGIN:VEVENT
DTSTART;TZID=Australia/Sydney:20260621T090000
DTEND;TZID=Australia/Sydney:20260621T163000
DTSTAMP:20260423T202811
CREATED:20260415T103423Z
LAST-MODIFIED:20260415T103423Z
UID:10000391-1782032400-1782059400@warringaharchers.com.au
SUMMARY:Adelaide / Short Adelaide / Mini Adelaide
DESCRIPTION:Ground Crew: Young Family\nClub Round: 30 arrows @ 60/50/40*/30* or 50/40/30*/20* or 25/20/15*/10*
URL:https://warringaharchers.com.au/event/adelaide-short-adelaide-mini-adelaide/
LOCATION:Warringah Archers\, 12 Inman Rd\, Cromer NSW 2099\, Australia\, 12 Inman Rd\, Cromer\, NSW\, 2099\, Australia
CATEGORIES:Club Shoots
END:VEVENT
END:VCALENDAR