BEGIN:VCALENDAR
VERSION:2.0
PRODID:-//Warringah Archers - ECPv6.15.20//NONSGML v1.0//EN
CALSCALE:GREGORIAN
METHOD:PUBLISH
X-ORIGINAL-URL:https://warringaharchers.com.au
X-WR-CALDESC:Events for Warringah Archers
REFRESH-INTERVAL;VALUE=DURATION:PT1H
X-Robots-Tag:noindex
X-PUBLISHED-TTL:PT1H
BEGIN:VTIMEZONE
TZID:Australia/Sydney
BEGIN:STANDARD
TZOFFSETFROM:+1100
TZOFFSETTO:+1000
TZNAME:AEST
DTSTART:20250405T160000
END:STANDARD
BEGIN:DAYLIGHT
TZOFFSETFROM:+1000
TZOFFSETTO:+1100
TZNAME:AEDT
DTSTART:20251004T160000
END:DAYLIGHT
BEGIN:STANDARD
TZOFFSETFROM:+1100
TZOFFSETTO:+1000
TZNAME:AEST
DTSTART:20260404T160000
END:STANDARD
BEGIN:DAYLIGHT
TZOFFSETFROM:+1000
TZOFFSETTO:+1100
TZNAME:AEDT
DTSTART:20261003T160000
END:DAYLIGHT
BEGIN:STANDARD
TZOFFSETFROM:+1100
TZOFFSETTO:+1000
TZNAME:AEST
DTSTART:20270403T160000
END:STANDARD
BEGIN:DAYLIGHT
TZOFFSETFROM:+1000
TZOFFSETTO:+1100
TZNAME:AEDT
DTSTART:20271002T160000
END:DAYLIGHT
END:VTIMEZONE
BEGIN:VEVENT
DTSTART;VALUE=DATE:20260620
DTEND;VALUE=DATE:20260621
DTSTAMP:20260419T185602
CREATED:20260415T103423Z
LAST-MODIFIED:20260415T103423Z
UID:10000390-1781913600-1781999999@warringaharchers.com.au
SUMMARY:Launceston/Sarah Lee/Peter Pan
DESCRIPTION:Ground Crew: Kane Wilson / Monica CamilleriClub Round: 36 arrows @  50/30 (80cm) or 25/20m (122cm face) or 15/20 (80cm face-New members only)
URL:https://warringaharchers.com.au/event/launceston-sarah-lee-peter-pan/
LOCATION:NSW
CATEGORIES:Club Shoots
END:VEVENT
END:VCALENDAR