BEGIN:VCALENDAR
VERSION:2.0
PRODID:-//Warringah Archers - ECPv6.15.20//NONSGML v1.0//EN
CALSCALE:GREGORIAN
METHOD:PUBLISH
X-WR-CALNAME:Warringah Archers
X-ORIGINAL-URL:https://warringaharchers.com.au
X-WR-CALDESC:Events for Warringah Archers
REFRESH-INTERVAL;VALUE=DURATION:PT1H
X-Robots-Tag:noindex
X-PUBLISHED-TTL:PT1H
BEGIN:VTIMEZONE
TZID:Australia/Sydney
BEGIN:STANDARD
TZOFFSETFROM:+1100
TZOFFSETTO:+1000
TZNAME:AEST
DTSTART:20250405T160000
END:STANDARD
BEGIN:DAYLIGHT
TZOFFSETFROM:+1000
TZOFFSETTO:+1100
TZNAME:AEDT
DTSTART:20251004T160000
END:DAYLIGHT
BEGIN:STANDARD
TZOFFSETFROM:+1100
TZOFFSETTO:+1000
TZNAME:AEST
DTSTART:20260404T160000
END:STANDARD
BEGIN:DAYLIGHT
TZOFFSETFROM:+1000
TZOFFSETTO:+1100
TZNAME:AEDT
DTSTART:20261003T160000
END:DAYLIGHT
BEGIN:STANDARD
TZOFFSETFROM:+1100
TZOFFSETTO:+1000
TZNAME:AEST
DTSTART:20270403T160000
END:STANDARD
BEGIN:DAYLIGHT
TZOFFSETFROM:+1000
TZOFFSETTO:+1100
TZNAME:AEDT
DTSTART:20271002T160000
END:DAYLIGHT
END:VTIMEZONE
BEGIN:VEVENT
DTSTART;VALUE=DATE:20260521
DTEND;VALUE=DATE:20260526
DTSTAMP:20260426T120104
CREATED:20251223T074108Z
LAST-MODIFIED:20251223T074108Z
UID:10000241-1779357600-1779703199@warringaharchers.com.au
SUMMARY:Open Field Championships - Hills Archery Club\, SA
DESCRIPTION:
URL:https://warringaharchers.com.au/event/open-field-championships-hills-archery-club-sa/
CATEGORIES:Archery NSW
END:VEVENT
BEGIN:VEVENT
DTSTART;VALUE=DATE:20260524
DTEND;VALUE=DATE:20260526
DTSTAMP:20260426T120104
CREATED:20251223T074108Z
LAST-MODIFIED:20251223T074108Z
UID:10000238-1779616800-1779703199@warringaharchers.com.au
SUMMARY:Golden Field - Illawarra Archers
DESCRIPTION:
URL:https://warringaharchers.com.au/event/golden-field-illawarra-archers/
CATEGORIES:Archery NSW
END:VEVENT
BEGIN:VEVENT
DTSTART;VALUE=DATE:20260524
DTEND;VALUE=DATE:20260526
DTSTAMP:20260426T120104
CREATED:20251223T074108Z
LAST-MODIFIED:20251223T074108Z
UID:10000239-1779616800-1779703199@warringaharchers.com.au
SUMMARY:Indoor QRE - SOPA
DESCRIPTION:
URL:https://warringaharchers.com.au/event/indoor-qre-sopa-7/
CATEGORIES:Archery NSW
END:VEVENT
BEGIN:VEVENT
DTSTART;TZID=Australia/Sydney:20260525T160000
DTEND;TZID=Australia/Sydney:20260525T192000
DTSTAMP:20260426T120104
CREATED:20260415T103422Z
LAST-MODIFIED:20260415T103422Z
UID:10000376-1779724800-1779736800@warringaharchers.com.au
SUMMARY:Aust Indoor 1 & 2 Combined + Paddington Bear
DESCRIPTION:30 arows @ 25m on 60cm face\, 30 arrows @ 18m on 40cm face or 36 arrows @ 15m/10m (122cm face)
URL:https://warringaharchers.com.au/event/aust-indoor-1-2-combined-paddington-bear/
LOCATION:Warringah Archers\, 12 Inman Rd\, Cromer NSW 2099\, Australia\, 12 Inman Rd\, Cromer\, NSW\, 2099\, Australia
CATEGORIES:Club Shoots
END:VEVENT
END:VCALENDAR