BEGIN:VCALENDAR
VERSION:2.0
PRODID:-//Warringah Archers - ECPv6.15.20//NONSGML v1.0//EN
CALSCALE:GREGORIAN
METHOD:PUBLISH
X-WR-CALNAME:Warringah Archers
X-ORIGINAL-URL:https://warringaharchers.com.au
X-WR-CALDESC:Events for Warringah Archers
REFRESH-INTERVAL;VALUE=DURATION:PT1H
X-Robots-Tag:noindex
X-PUBLISHED-TTL:PT1H
BEGIN:VTIMEZONE
TZID:Australia/Sydney
BEGIN:STANDARD
TZOFFSETFROM:+1100
TZOFFSETTO:+1000
TZNAME:AEST
DTSTART:20250405T160000
END:STANDARD
BEGIN:DAYLIGHT
TZOFFSETFROM:+1000
TZOFFSETTO:+1100
TZNAME:AEDT
DTSTART:20251004T160000
END:DAYLIGHT
BEGIN:STANDARD
TZOFFSETFROM:+1100
TZOFFSETTO:+1000
TZNAME:AEST
DTSTART:20260404T160000
END:STANDARD
BEGIN:DAYLIGHT
TZOFFSETFROM:+1000
TZOFFSETTO:+1100
TZNAME:AEDT
DTSTART:20261003T160000
END:DAYLIGHT
BEGIN:STANDARD
TZOFFSETFROM:+1100
TZOFFSETTO:+1000
TZNAME:AEST
DTSTART:20270403T160000
END:STANDARD
BEGIN:DAYLIGHT
TZOFFSETFROM:+1000
TZOFFSETTO:+1100
TZNAME:AEDT
DTSTART:20271002T160000
END:DAYLIGHT
END:VTIMEZONE
BEGIN:VEVENT
DTSTART;TZID=Australia/Sydney:20260503T080000
DTEND;TZID=Australia/Sydney:20260503T163000
DTSTAMP:20260424T215117
CREATED:20260415T103421Z
LAST-MODIFIED:20260415T103421Z
UID:10000363-1777795200-1777825800@warringaharchers.com.au
SUMMARY:Canberra / Sht.Canberra / Jun.Canberra (Oceania Postal)  / Mini Canberra /Newcastle AM Canberra rounds (Oceania Postal) PM
DESCRIPTION:Ground Crew: The Timmer Family\nClub Round: 30 arrows @ 60/50/40 or 50/40/30\, or 40/30/20 or 30/20/10 (122cm face) or 90 arrows @ 20m on 122cm face
URL:https://warringaharchers.com.au/event/canberra-sht-canberra-jun-canberra-oceania-postal-mini-canberra-newcastle-am-canberra-rounds-oceania-postal-pm/
LOCATION:Warringah Archers\, 12 Inman Rd\, Cromer NSW 2099\, Australia\, 12 Inman Rd\, Cromer\, NSW\, 2099\, Australia
CATEGORIES:Club Shoots
END:VEVENT
BEGIN:VEVENT
DTSTART;VALUE=DATE:20260503
DTEND;VALUE=DATE:20260505
DTSTAMP:20260424T215117
CREATED:20251223T074108Z
LAST-MODIFIED:20251223T074108Z
UID:10000233-1777802400-1777888799@warringaharchers.com.au
SUMMARY:Golden Gong - Illawarra Archers
DESCRIPTION:
URL:https://warringaharchers.com.au/event/golden-gong-illawarra-archers/
CATEGORIES:Archery NSW
END:VEVENT
BEGIN:VEVENT
DTSTART;VALUE=DATE:20260503
DTEND;VALUE=DATE:20260505
DTSTAMP:20260424T215117
CREATED:20251223T074108Z
LAST-MODIFIED:20251223T074108Z
UID:10000234-1777802400-1777888799@warringaharchers.com.au
SUMMARY:Matchplay - Coast Archers
DESCRIPTION:
URL:https://warringaharchers.com.au/event/matchplay-coast-archers/
CATEGORIES:Archery NSW
END:VEVENT
END:VCALENDAR